BEGIN:VCALENDAR
VERSION:2.0
PRODID:-//wp-events-plugin.com//7.2.3.1//EN
TZID:America/Los_Angeles
X-WR-TIMEZONE:America/Los_Angeles
BEGIN:VEVENT
UID:15187@kmun.org
DTSTART;TZID=America/Los_Angeles:20250508T190000
DTEND;TZID=America/Los_Angeles:20250508T200000
DTSTAMP:20250430T164456Z
URL:https://kmun.org/events/wit-and-wisdom-wanna-get-weird-a-philosophy-of
 -weirdness/
SUMMARY:Wit and Wisdom: Wanna Get Weird? - A Philosophy of Weirdness
DESCRIPTION:Two time “Wonderland” award winning author &amp\; one of th
 e founders of Bizzaro literature\, Kevin L. Donihe joins Philosofarian Set
 h Tichenor for a conversation on the nature of weirdness. Kevin will also 
 perform a “dynamic reading” of some Bizzaro literature (which is prett
 y “dynamic” if you haven’t seen it before).\nAmongst the topics disc
 ussed – what does it mean to be weird &amp\; how do you make that judgem
 ent? Where does the idea of weirdness come from\, and why is being weird s
 o often considered a bad thing? And finally\, does weirdness offer us anyt
 hing beyond just “being weird”?\nPresented by Seth Tichenor and Kevin 
 L. Donihe\nDoors to the Lovell Showroom open at 6:00pm with food and bever
 ages available via the Taproom window. The talk starts at 7:00pm. All ages
  welcome and never a cover.\nThe Thursday Lecture Series is a reoccurring 
 community lecture series every Thursday\, October through May. Thank you t
 o our 2024/2025 Partners –\n1st Thursdays – Ales &amp\; Ideas w/ Clats
 op Community College\n2nd Thursdays – Wit &amp\; Wisdom w/ Philosofarian
 \n3rd Thursdays – Thursday Night Talk w/ Clatsop County Historical Socie
 ty\n4th Thursdays – Nature Matters w/ Lewis &amp\; Clark National Histor
 ic Park\, Lewis &amp\; Clark National Park Association\, and North Coast W
 atershed Association\n
ATTACH;FMTTYPE=image/jpeg:https://kmun.org/wp-content/uploads/2025/04/thur
 sday-generic.jpg
CATEGORIES:Public Events
LOCATION:Fort George Brewery\, 1483 Duane Street\, Astoria\, OR\, 97103\, U
 nited States
GEO:46.18835199999999;-123.82758639999997
X-APPLE-STRUCTURED-LOCATION;VALUE=URI;X-ADDRESS=1483 Duane Street\, Astoria
 \, OR\, 97103\, United States;X-APPLE-RADIUS=100;X-TITLE=Fort George Brewe
 ry:geo:46.18835199999999,-123.82758639999997
END:VEVENT
BEGIN:VTIMEZONE
TZID:America/Los_Angeles
X-LIC-LOCATION:America/Los_Angeles
BEGIN:DAYLIGHT
DTSTART:20250309T030000
TZOFFSETFROM:-0800
TZOFFSETTO:-0700
TZNAME:PDT
END:DAYLIGHT
END:VTIMEZONE
END:VCALENDAR