BEGIN:VCALENDAR
VERSION:2.0
PRODID:-//wp-events-plugin.com//7.2.3.1//EN
TZID:America/Los_Angeles
X-WR-TIMEZONE:America/Los_Angeles
BEGIN:VEVENT
UID:15807@kmun.org
DTSTART;TZID=America/Los_Angeles:20250920T140000
DTEND;TZID=America/Los_Angeles:20250920T170000
DTSTAMP:20250903T163438Z
URL:https://kmun.org/events/winekraft-benefit-for-charlene-larsen-center/
SUMMARY:WineKraft Benefit for Charlene Larsen Center
DESCRIPTION:Brian and Donna Woosley\, new owners of WineKraft on Pier 11\, 
 are presenting a benefit for the Larsen Center. There will be entertainmen
 t by the musicians who are part of the Partners for the PAC.
CATEGORIES:Public Events
LOCATION:WineKraft\, 80 10th St\, Astoria\, OR\, 97146\, United States
GEO:46.1904846;-123.83268470000002
X-APPLE-STRUCTURED-LOCATION;VALUE=URI;X-ADDRESS=80 10th St\, Astoria\, OR\,
  97146\, United States;X-APPLE-RADIUS=100;X-TITLE=WineKraft:geo:46.1904846
 ,-123.83268470000002
END:VEVENT
BEGIN:VTIMEZONE
TZID:America/Los_Angeles
X-LIC-LOCATION:America/Los_Angeles
BEGIN:DAYLIGHT
DTSTART:20250309T030000
TZOFFSETFROM:-0800
TZOFFSETTO:-0700
TZNAME:PDT
END:DAYLIGHT
END:VTIMEZONE
END:VCALENDAR