BEGIN:VCALENDAR
VERSION:2.0
PRODID:-//wp-events-plugin.com//7.2.3.1//EN
TZID:America/Los_Angeles
X-WR-TIMEZONE:America/Los_Angeles
BEGIN:VEVENT
UID:13982@kmun.org
DTSTART;TZID=America/Los_Angeles:20241229T100000
DTEND;TZID=America/Los_Angeles:20241229T130000
DTSTAMP:20241113T182630Z
URL:https://kmun.org/events/wall-vases-clay-play/
SUMMARY:Wall Vases Clay Play
DESCRIPTION:Clay Plays are casual\, beginner-friendly pottery sessions wher
 e you will learn basic ceramic handbuilding skills to create functional or
  decorative objects. Ages 10+ with an adult or ages 14+. Pieces are glazed
 \, fired and ready for pick up in 3-6 weeks. Shipping is available for our
  visiting attendees for $15 plus shipping costs.\n
ATTACH;FMTTYPE=image/jpeg:https://kmun.org/wp-content/uploads/2024/11/Scre
 enshot-2024-11-05-at-9.14.54 AM-4.png
CATEGORIES:Public Events
LOCATION:Ilwaco Artworks\, 109 First Avenue North\, Ilwaco\, WA\, 98624\, U
 nited States
X-APPLE-STRUCTURED-LOCATION;VALUE=URI;X-ADDRESS=109 First Avenue North\, Il
 waco\, WA\, 98624\, United States;X-APPLE-RADIUS=100;X-TITLE=Ilwaco Artwor
 ks:geo:0,0
END:VEVENT
BEGIN:VTIMEZONE
TZID:America/Los_Angeles
X-LIC-LOCATION:America/Los_Angeles
BEGIN:STANDARD
DTSTART:20241103T010000
TZOFFSETFROM:-0700
TZOFFSETTO:-0800
TZNAME:PST
END:STANDARD
END:VTIMEZONE
END:VCALENDAR