BEGIN:VCALENDAR
VERSION:2.0
PRODID:-//wp-events-plugin.com//7.2.3.1//EN
TZID:America/Los_Angeles
X-WR-TIMEZONE:America/Los_Angeles
BEGIN:VEVENT
UID:17337@kmun.org
DTSTART;TZID=America/Los_Angeles:20260607T130000
DTEND;TZID=America/Los_Angeles:20260607T150000
DTSTAMP:20260422T175200Z
URL:https://kmun.org/events/visual-arts-talk-confluence-art-love-and-a-sha
 red-studio-on-the-columbia-river-with-elise-wagner-and-gabe-fernandez/
SUMMARY:Visual Arts Talk Confluence: Art\, Love\, and a Shared Studio on th
 e Columbia River with Elise Wagner and Gabe Fernandez
DESCRIPTION:Join artists Elise Wagner and Gabe Fernandez for a talk and sli
 de presentation about art\, partnership\, and place. Working side by side 
 at the confluence of the Columbia River and the Pacific Ocean in Astoria\,
  Wagner’s abstract encaustic paintings and collagraph prints explore lay
 ered natural systems\, while Fernandez’s hyperrealist paintings capture 
 the precision of light and observation.\nTogether\, they’ll share the st
 ory of how they met\, became engaged in Paris\, and built a shared studio 
 practice\, offering insight into the balance of independent vision\, creat
 ive dialogue\, and life on the Oregon Coast. This is a ticketed event.
ATTACH;FMTTYPE=image/jpeg:https://kmun.org/wp-content/uploads/2026/04/IMG_
 2068.jpg
CATEGORIES:Public Events
LOCATION:Pier 11 Studio\, 77 11th St. Suite A\, Astoria\, OR\, 97103\, Unit
 ed States
X-APPLE-STRUCTURED-LOCATION;VALUE=URI;X-ADDRESS=77 11th St. Suite A\, Astor
 ia\, OR\, 97103\, United States;X-APPLE-RADIUS=100;X-TITLE=Pier 11 Studio:
 geo:0,0
END:VEVENT
BEGIN:VTIMEZONE
TZID:America/Los_Angeles
X-LIC-LOCATION:America/Los_Angeles
BEGIN:DAYLIGHT
DTSTART:20260308T030000
TZOFFSETFROM:-0800
TZOFFSETTO:-0700
TZNAME:PDT
END:DAYLIGHT
END:VTIMEZONE
END:VCALENDAR