BEGIN:VCALENDAR
VERSION:2.0
PRODID:-//wp-events-plugin.com//7.2.3.1//EN
TZID:America/Los_Angeles
X-WR-TIMEZONE:America/Los_Angeles
BEGIN:VEVENT
UID:17321@kmun.org
DTSTART;TZID=America/Los_Angeles:20261117T160000
DTEND;TZID=America/Los_Angeles:20261117T180000
DTSTAMP:20260422T175509Z
URL:https://kmun.org/events/united-ways-iron-chef-goes-coastal/
SUMMARY:United Way's Iron Chef Goes Coastal
DESCRIPTION:United Way’s Iron Chef Goes Coastal is an exciting\, communit
 y-driven fundraiser that brings together talented local chefs and restaura
 nts for a friendly culinary competition. Attendees can sample delicious bi
 tes from dozens of vendors\, casting their votes for favorites in both sav
 ory and dessert categories. The highlight of the event is a live\, on-stag
 e cooking showdown where chefs compete in real time\, with a panel of judg
 es selecting the ultimate winner. As United Way’s largest fundraiser of 
 the year\, Iron Chef Goes Coastal plays a vital role in supporting the com
 munity—raising a significant portion of the funds distributed annually t
 o local nonprofits. Every dollar generated goes directly back to those org
 anizations\, ensuring meaningful impact where it’s needed most.
ATTACH;FMTTYPE=image/jpeg:https://kmun.org/wp-content/uploads/2026/04/Iron
 -Chef-2023-Logo-500x300-1.png
CATEGORIES:Public Events
LOCATION:Seaside Convention Center\, 415 First Avenue\, Seaside\, Oregon\, 
 97138\, United States
GEO:45.9940788;-123.92544680000003
X-APPLE-STRUCTURED-LOCATION;VALUE=URI;X-ADDRESS=415 First Avenue\, Seaside\
 , Oregon\, 97138\, United States;X-APPLE-RADIUS=100;X-TITLE=Seaside Conven
 tion Center:geo:45.9940788,-123.92544680000003
END:VEVENT
BEGIN:VTIMEZONE
TZID:America/Los_Angeles
X-LIC-LOCATION:America/Los_Angeles
BEGIN:STANDARD
DTSTART:20261101T010000
TZOFFSETFROM:-0700
TZOFFSETTO:-0800
TZNAME:PST
END:STANDARD
END:VTIMEZONE
END:VCALENDAR