BEGIN:VCALENDAR
VERSION:2.0
PRODID:-//wp-events-plugin.com//7.2.3.1//EN
TZID:America/Los_Angeles
X-WR-TIMEZONE:America/Los_Angeles
BEGIN:VEVENT
UID:13349@kmun.org
DTSTART;TZID=America/Los_Angeles:20240525T150000
DTEND;TZID=America/Los_Angeles:20240525T163000
DTSTAMP:20240515T172745Z
URL:https://kmun.org/events/tribal-histories-of-the-willamette-valley-with
 -david-lewis/
SUMMARY:Tribal Histories of the Willamette Valley with David Lewis
DESCRIPTION:Oregon Indigenous historian David G. Lewis combines years of re
 searching historical documents and collecting oral stories\, highlighting 
 Native perspectives about the history of the Willamette Valley as they exp
 erienced it.\nHe will be speaking at the Tillamook Main Branch Library on 
 Saturday\, May 25th at 3:00pm.\n
CATEGORIES:Public Events
LOCATION:Tillamook County Library\, 1716 3rd St\, Tillamook\, Oregon\, 9714
 1\, United States
GEO:45.4567333;-123.8463557
X-APPLE-STRUCTURED-LOCATION;VALUE=URI;X-ADDRESS=1716 3rd St\, Tillamook\, O
 regon\, 97141\, United States;X-APPLE-RADIUS=100;X-TITLE=Tillamook County 
 Library:geo:45.4567333,-123.8463557
END:VEVENT
BEGIN:VTIMEZONE
TZID:America/Los_Angeles
X-LIC-LOCATION:America/Los_Angeles
BEGIN:DAYLIGHT
DTSTART:20240310T030000
TZOFFSETFROM:-0800
TZOFFSETTO:-0700
TZNAME:PDT
END:DAYLIGHT
END:VTIMEZONE
END:VCALENDAR