BEGIN:VCALENDAR
VERSION:2.0
PRODID:-//wp-events-plugin.com//7.2.3.1//EN
TZID:America/Los_Angeles
X-WR-TIMEZONE:America/Los_Angeles
BEGIN:VEVENT
UID:11158@kmun.org
DTSTART;TZID=America/Los_Angeles:20221202T120000
DTEND;TZID=America/Los_Angeles:20221211T170000
DTSTAMP:20221123T174830Z
URL:https://kmun.org/event-recurring/tolovana-arts-colony-holiday-bazaar/
SUMMARY:Tolovana Arts Colony Holiday Bazaar
DESCRIPTION:Your holiday shopping need not finance billionaire Jeff Bezos' 
 forays into space!\nIndeed\, why shop online or brave the big box stores w
 hen you could blast off and shower your loved ones with one-of-a-kind\, lo
 cally made gifts?\nChoosing The Tolovana Arts Colony's annual Holiday Gift
  Bazaar is a no brainer--a lively and meaningful antidote to cold\, corpor
 ate consumerism.\nThe Bazaar runs for two weekends\, Dec. 3rd \,4th &amp\;
  10th\,11th\, from noon to 5PM each day.\nBut wait... that's not all!\nThe
  Opening Night Reception Party returns\, Friday\, December 2nd from 6-to-8
 PM!\nAfter two years of covid cancelling the party\, we're ready to boogie
  down once again! We'll have food\, drinks and snacks to go alongside all 
 the fabulous items on offer at the Bazaar.\nOn display--and available for 
 purchase--will be a stunning array of works from local artists and crafter
 s including everything from jewelry to house wares\, fine arts to clothing
 \, snacks\, beauty products and more. Indeed\, there'll be something for e
 veryone. Surprises abound!\nBut be advised: some of these are one-of-a-kin
 d items and many will be scooped up quick.\nBesides offering some of the c
 oolest\, locally-made art and crafts around\, gift buying at the bazaar pr
 ovides critical support to local artists and crafters. Your purchases are 
 a big deal--especially at this time of year.\nSo rather than adding fuel t
 o Bezos's rocket\, keep it in the community and shop with purpose!\nFor mo
 re information\, visit tolovanaartscolony.org\, email tolovanaartscolony@g
 mail.com or call 541-215-4445.\nTolovana Hall is located at 3779 S. Hemloc
 k in Cannon Beach.
CATEGORIES:Public Events
LOCATION:Tolovana Hall\, 3779 S. Hemlock Street\, Cannon Beach\, Oregon\, U
 nited States
GEO:45.8677524;-123.95975520000002
X-APPLE-STRUCTURED-LOCATION;VALUE=URI;X-ADDRESS=3779 S. Hemlock Street\, Ca
 nnon Beach\, Oregon\, United States;X-APPLE-RADIUS=100;X-TITLE=Tolovana Ha
 ll:geo:45.8677524,-123.95975520000002
END:VEVENT
BEGIN:VTIMEZONE
TZID:America/Los_Angeles
X-LIC-LOCATION:America/Los_Angeles
BEGIN:STANDARD
DTSTART:20221106T010000
TZOFFSETFROM:-0700
TZOFFSETTO:-0800
TZNAME:PST
END:STANDARD
END:VTIMEZONE
END:VCALENDAR