BEGIN:VCALENDAR
VERSION:2.0
PRODID:-//wp-events-plugin.com//7.2.3.1//EN
TZID:America/Los_Angeles
X-WR-TIMEZONE:America/Los_Angeles
BEGIN:VEVENT
UID:17316@kmun.org
DTSTART;TZID=America/Los_Angeles:20260425T090000
DTEND;TZID=America/Los_Angeles:20260426T040000
DTSTAMP:20260422T163853Z
URL:https://kmun.org/events/tillamook-headlight-herald-home-and-garden-sho
 w/
SUMMARY:Tillamook Headlight Herald Home and Garden Show
DESCRIPTION:2026 Headlight Herald Home &amp\; Garden Show\nSaturday\, April
  25th\, 2026 (9:00am to 4:00pm) and Sunday\, April 26th\, 2026 (11:00am to
  4:00pm)\nTillamook County Fairgrounds Free Parking. Free admission.\nCo-s
 ponsored by Tillamook County Solid Waste. Featuring 37 vendors\, Bee Days 
 2026\, Public Safety Fair on Saturday 4/25 11:00am to 3:00pm. Plant vendor
 s\, great food\, come meet local politicians running in Spring Primary Ele
 ction 2026. Limited vendor space still available.
ATTACH;FMTTYPE=image/jpeg:https://kmun.org/wp-content/uploads/2026/04/2026
 -Tillamook-HG-Poster-.jpg
CATEGORIES:Public Events
LOCATION:Tillamook County Fairgrounds\, 4603 E Third Street\, Tillamook\, O
 regon\, 97141\, United States
GEO:45.4566806;-123.8073604
X-APPLE-STRUCTURED-LOCATION;VALUE=URI;X-ADDRESS=4603 E Third Street\, Tilla
 mook\, Oregon\, 97141\, United States;X-APPLE-RADIUS=100;X-TITLE=Tillamook
  County Fairgrounds:geo:45.4566806,-123.8073604
END:VEVENT
BEGIN:VTIMEZONE
TZID:America/Los_Angeles
X-LIC-LOCATION:America/Los_Angeles
BEGIN:DAYLIGHT
DTSTART:20260308T030000
TZOFFSETFROM:-0800
TZOFFSETTO:-0700
TZNAME:PDT
END:DAYLIGHT
END:VTIMEZONE
END:VCALENDAR