BEGIN:VCALENDAR
VERSION:2.0
PRODID:-//wp-events-plugin.com//7.2.3.1//EN
TZID:America/Los_Angeles
X-WR-TIMEZONE:America/Los_Angeles
BEGIN:VEVENT
UID:17120@kmun.org
DTSTART;TZID=America/Los_Angeles:20260404T120000
DTEND;TZID=America/Los_Angeles:20260404T213000
DTSTAMP:20260318T170511Z
URL:https://kmun.org/events/third-annual-seaside-jazz-and-blues-festival-2
 /
SUMMARY:Third Annual Seaside Jazz and Blues Festival
DESCRIPTION:The 3rd annual Seaside Jazz and Blues will be Friday\, April 3r
 d from 7:30pm  to 9:30pm and Saturday\, April 4th from noon until 9:30pm 
 at the Seaside Convention Center. The line up includes The Norman Sylveste
 r Band\, Marilynn Keller\, Astoria Jazz Collective\, Dmitri Matheny\, the 
 Mary Kadderly Trio\, Red String Theory\, Lloyd Jones and the Seaside High 
 School Jazz Band. This event is a benefit for the Kyle Rieger Memorial Sch
 olarship to benefit local student musicians. Find more information and pre
 -order tickets at https://www.seaside138.com/seasidejazzandblues\n\n \nAl
 l day Friday April 3rd will feature the Seaside Jazz and Blues High School
  Showcase\, celebrating it’s second year with 14 bands performing in a c
 ompetitive stage qualifier for Jazz bands\, which allows them growth throu
 gh judging and clinicing.\n\n
CATEGORIES:Public Events
LOCATION:Seaside Convention Center\, 415 First Avenue\, Seaside\, Oregon\, 
 97138\, United States
GEO:45.9940788;-123.92544680000003
X-APPLE-STRUCTURED-LOCATION;VALUE=URI;X-ADDRESS=415 First Avenue\, Seaside\
 , Oregon\, 97138\, United States;X-APPLE-RADIUS=100;X-TITLE=Seaside Conven
 tion Center:geo:45.9940788,-123.92544680000003
END:VEVENT
BEGIN:VTIMEZONE
TZID:America/Los_Angeles
X-LIC-LOCATION:America/Los_Angeles
BEGIN:DAYLIGHT
DTSTART:20260308T030000
TZOFFSETFROM:-0800
TZOFFSETTO:-0700
TZNAME:PDT
END:DAYLIGHT
END:VTIMEZONE
END:VCALENDAR