BEGIN:VCALENDAR
VERSION:2.0
PRODID:-//wp-events-plugin.com//7.2.3.1//EN
TZID:America/Los_Angeles
X-WR-TIMEZONE:America/Los_Angeles
BEGIN:VEVENT
UID:14188@kmun.org
DTSTART;TZID=America/Los_Angeles:20250215T190000
DTEND;TZID=America/Los_Angeles:20250215T210000
DTSTAMP:20250123T172642Z
URL:https://kmun.org/events/the-rogue-trio-at-the-north-beach-tavern-in-lo
 ng-beach-2/
SUMMARY:The Rogue Trio at the North Beach Tavern in Long Beach
DESCRIPTION:The Rogue Trio delights audiences with nostalgic rock &amp\; ro
 ll\, blues and country music\, plus some original tunes.  They will be pe
 rforming at the North Beach Tavern in Long Beach\, WA on Saturday\, Februa
 ry 15th at 7:00pm.
CATEGORIES:Public Events
LOCATION:North Beach Tavern\, 102 Pioneer Road\, LOng Beach\, WA\, United S
 tates
X-APPLE-STRUCTURED-LOCATION;VALUE=URI;X-ADDRESS=102 Pioneer Road\, LOng Bea
 ch\, WA\, United States;X-APPLE-RADIUS=100;X-TITLE=North Beach Tavern:geo:
 0,0
END:VEVENT
BEGIN:VTIMEZONE
TZID:America/Los_Angeles
X-LIC-LOCATION:America/Los_Angeles
BEGIN:STANDARD
DTSTART:20241103T010000
TZOFFSETFROM:-0700
TZOFFSETTO:-0800
TZNAME:PST
END:STANDARD
END:VTIMEZONE
END:VCALENDAR