BEGIN:VCALENDAR
VERSION:2.0
PRODID:-//wp-events-plugin.com//7.2.3.1//EN
TZID:America/Los_Angeles
X-WR-TIMEZONE:America/Los_Angeles
BEGIN:VEVENT
UID:13843@kmun.org
DTSTART;TZID=America/Los_Angeles:20241027T130000
DTEND;TZID=America/Los_Angeles:20241027T160000
DTSTAMP:20241009T172650Z
URL:https://kmun.org/events/talking-tombstones-xix-grave-mistakes/
SUMMARY:Talking Tombstones XIX\, Grave Mistakes
DESCRIPTION:Talking Tombstones will be held Sunday\, October 27th from 1:00
 pm to 4:00pm at the Greenwood Cemetery\, 91569 Highway 202\, Astoria.\nWit
 h the generous sponsorship of Vancouver Granite Works\, this is a FREE eve
 nt. Donations are welcomed. Visitors should plan to arrive no later than 3
 :00 pm as the deceased begin to fade from view as the darkness of night dr
 aws near.\nFor more information about this event or other Clatsop County H
 istorical Society activities\, please call 503-325-2203 or e-mail info@ast
 oriamuseums.org.\nClatsop County Historical Society is a 501(C)(3) non-pro
 fit educational organization dedicated to preserving and presenting the hi
 story of Clatsop County Oregon and the surrounding area. The Society opera
 tes the Flavel House Museum\, The Heritage Museum\, the Oregon Film Museum
  and the Uppertown Firefighters Museum.
CATEGORIES:Public Events
LOCATION:Greenwood Cemetery\, 91569 Highway 202\, Astoria\, OR\, 97103\, Un
 ited States
X-APPLE-STRUCTURED-LOCATION;VALUE=URI;X-ADDRESS=91569 Highway 202\, Astoria
 \, OR\, 97103\, United States;X-APPLE-RADIUS=100;X-TITLE=Greenwood Cemeter
 y:geo:0,0
END:VEVENT
BEGIN:VTIMEZONE
TZID:America/Los_Angeles
X-LIC-LOCATION:America/Los_Angeles
BEGIN:DAYLIGHT
DTSTART:20240310T030000
TZOFFSETFROM:-0800
TZOFFSETTO:-0700
TZNAME:PDT
END:DAYLIGHT
END:VTIMEZONE
END:VCALENDAR