BEGIN:VCALENDAR
VERSION:2.0
PRODID:-//wp-events-plugin.com//7.2.3.1//EN
TZID:America/Los_Angeles
X-WR-TIMEZONE:America/Los_Angeles
BEGIN:VEVENT
UID:17326@kmun.org
DTSTART;TZID=America/Los_Angeles:20260517T150000
DTEND;TZID=America/Los_Angeles:20260517T163000
DTSTAMP:20260422T173955Z
URL:https://kmun.org/events/spring-music-for-flute-and-piano-at-calvary-ep
 iscopal-church-in-seaside/
SUMMARY:Spring Music for Flute and Piano at Calvary Episcopal Church in Sea
 side
DESCRIPTION:Calvary Episcopal Church Sundays At Three Concert series will p
 resent Spring Music for Flute and Piano\, featuring Shelly Loring and Jenn
 ifer Goodenberger. All our welcome. Free admission. 3:00pm Sunday\, May 17
 th.
CATEGORIES:Public Events
LOCATION:Calvary Episcopal Church\, 503 N. Holladay Drive\, Seaside\, OR\, 
 97138\, United States
GEO:45.9977153;-123.9217731
X-APPLE-STRUCTURED-LOCATION;VALUE=URI;X-ADDRESS=503 N. Holladay Drive\, Sea
 side\, OR\, 97138\, United States;X-APPLE-RADIUS=100;X-TITLE=Calvary Episc
 opal Church:geo:45.9977153,-123.9217731
END:VEVENT
BEGIN:VTIMEZONE
TZID:America/Los_Angeles
X-LIC-LOCATION:America/Los_Angeles
BEGIN:DAYLIGHT
DTSTART:20260308T030000
TZOFFSETFROM:-0800
TZOFFSETTO:-0700
TZNAME:PDT
END:DAYLIGHT
END:VTIMEZONE
END:VCALENDAR