BEGIN:VCALENDAR
VERSION:2.0
PRODID:-//wp-events-plugin.com//7.2.3.1//EN
TZID:America/Los_Angeles
X-WR-TIMEZONE:America/Los_Angeles
BEGIN:VEVENT
UID:13395@kmun.org
DTSTART;TZID=America/Los_Angeles:20240717T140000
DTEND;TZID=America/Los_Angeles:20240717T180000
DTSTAMP:20240529T173410Z
URL:https://kmun.org/events/seaside-farmers-market-kmun-booth/
SUMMARY:Seaside Farmers Market - KMUN Booth
DESCRIPTION:Enjoy local produce\, live music\, and more at the Seaside Farm
 ers Market - a perfect mid week pick me up! Stop by the KMUN booth to meet
  DJs\, volunteers\, and learn more about the station!
CATEGORIES:Public Events
LOCATION:Sunset Recreation Center\, 1120 Broadway\, Near Hwy 101 and Broadw
 ay\, Seaside\, OR\, 97138\, Oregon Coast\, United States
X-APPLE-STRUCTURED-LOCATION;VALUE=URI;X-ADDRESS=1120 Broadway\, Near Hwy 10
 1 and Broadway\, Seaside\, OR\, 97138\, Oregon Coast\, United States;X-APP
 LE-RADIUS=100;X-TITLE=Sunset Recreation Center:geo:0,0
END:VEVENT
BEGIN:VTIMEZONE
TZID:America/Los_Angeles
X-LIC-LOCATION:America/Los_Angeles
BEGIN:DAYLIGHT
DTSTART:20240310T030000
TZOFFSETFROM:-0800
TZOFFSETTO:-0700
TZNAME:PDT
END:DAYLIGHT
END:VTIMEZONE
END:VCALENDAR