BEGIN:VCALENDAR
VERSION:2.0
PRODID:-//wp-events-plugin.com//7.2.3.1//EN
TZID:America/Los_Angeles
X-WR-TIMEZONE:America/Los_Angeles
BEGIN:VEVENT
UID:14053@kmun.org
DTSTART;TZID=America/Los_Angeles:20241214T130000
DTEND;TZID=America/Los_Angeles:20241214T160000
DTSTAMP:20241120T175610Z
URL:https://kmun.org/events/santa-story-time-at-the-cannon-beach-library/
SUMMARY:Santa Story Time at the Cannon Beach Library
DESCRIPTION:Join us Saturday\, December 14th at 1:00pm for Santa Story Time
 ! Special appearance by Santa\, who will read “The Night Before Christma
 s.” Volunteers will read Holiday stories and a story in Spanish. Childre
 n will receive a take-home hot chocolate bomb\, donated by Bruce’s Candy
  Kitchen\, and the library will provide children with a FREE Holiday book 
 (while supplies last). All ages are welcome!
CATEGORIES:Public Events
LOCATION:Cannon Beach Library\, 131 N. Hemlock\, Cannon Beach\, Oregon\, 97
 110\, United States
GEO:45.8971279;-123.96086300000002
X-APPLE-STRUCTURED-LOCATION;VALUE=URI;X-ADDRESS=131 N. Hemlock\, Cannon Bea
 ch\, Oregon\, 97110\, United States;X-APPLE-RADIUS=100;X-TITLE=Cannon Beac
 h Library:geo:45.8971279,-123.96086300000002
END:VEVENT
BEGIN:VTIMEZONE
TZID:America/Los_Angeles
X-LIC-LOCATION:America/Los_Angeles
BEGIN:STANDARD
DTSTART:20241103T010000
TZOFFSETFROM:-0700
TZOFFSETTO:-0800
TZNAME:PST
END:STANDARD
END:VTIMEZONE
END:VCALENDAR