BEGIN:VCALENDAR
VERSION:2.0
PRODID:-//wp-events-plugin.com//7.2.3.1//EN
TZID:America/Los_Angeles
X-WR-TIMEZONE:America/Los_Angeles
BEGIN:VEVENT
UID:16598@kmun.org
DTSTART;TZID=America/Los_Angeles:20260123T190000
DTEND;TZID=America/Los_Angeles:20260123T210000
DTSTAMP:20260115T182728Z
URL:https://kmun.org/events/rj-marx-trio/
SUMMARY:RJ Marx Trio
DESCRIPTION:The RJ Marx Trio will be performing a night of live music at th
 e McMenamins Sand Trap Pub in Gearhart on Friday\, January 23th beginning 
 at 7:00pm.  The performance is free.
CATEGORIES:Public Events
LOCATION:McMenamins Sand Trap Pub\, 1157 Marion Ave\, Gearhart\, OR\, 97138
 \, United States
X-APPLE-STRUCTURED-LOCATION;VALUE=URI;X-ADDRESS=1157 Marion Ave\, Gearhart\
 , OR\, 97138\, United States;X-APPLE-RADIUS=100;X-TITLE=McMenamins Sand Tr
 ap Pub:geo:0,0
END:VEVENT
BEGIN:VTIMEZONE
TZID:America/Los_Angeles
X-LIC-LOCATION:America/Los_Angeles
BEGIN:STANDARD
DTSTART:20251102T010000
TZOFFSETFROM:-0700
TZOFFSETTO:-0800
TZNAME:PST
END:STANDARD
END:VTIMEZONE
END:VCALENDAR