BEGIN:VCALENDAR
VERSION:2.0
PRODID:-//wp-events-plugin.com//7.2.3.1//EN
TZID:America/Los_Angeles
X-WR-TIMEZONE:America/Los_Angeles
BEGIN:VEVENT
UID:13701@kmun.org
DTSTART;TZID=America/Los_Angeles:20240914T140000
DTEND;TZID=America/Los_Angeles:20240914T150000
DTSTAMP:20240904T170621Z
URL:https://kmun.org/events/reverse-tie-dye-encore-at-garibaldi-branch-lib
 rary/
SUMMARY:Reverse Tie Dye Encore at Garibaldi Branch Library
DESCRIPTION:We're hosting another Community Connections Program at Garibald
 i Branch Library on Saturday\, September 14\, at 2:00pm.\nDid you miss out
  last time? We’re doing it again! Bring a colored t-shirt and learn to r
 everse tie dye! All supplies (other than colored shirt) will be provided a
 long with guidance to create your own work of art.\nThis is an all ages pr
 ogram. Children under 12 must be accompanied by an adult.\n
ATTACH;FMTTYPE=image/jpeg:https://kmun.org/wp-content/uploads/2024/08/Enco
 re-Reverse-Tie-Dye-2.jpg
CATEGORIES:Public Events
LOCATION:Garibaldi Branch Library\, 107 6th St \, Garibaldi\, OR\, 97118\, 
 United States
X-APPLE-STRUCTURED-LOCATION;VALUE=URI;X-ADDRESS=107 6th St \, Garibaldi\, O
 R\, 97118\, United States;X-APPLE-RADIUS=100;X-TITLE=Garibaldi Branch Libr
 ary:geo:0,0
END:VEVENT
BEGIN:VTIMEZONE
TZID:America/Los_Angeles
X-LIC-LOCATION:America/Los_Angeles
BEGIN:DAYLIGHT
DTSTART:20240310T030000
TZOFFSETFROM:-0800
TZOFFSETTO:-0700
TZNAME:PDT
END:DAYLIGHT
END:VTIMEZONE
END:VCALENDAR