BEGIN:VCALENDAR
VERSION:2.0
PRODID:-//wp-events-plugin.com//7.2.3.1//EN
TZID:America/Los_Angeles
X-WR-TIMEZONE:America/Los_Angeles
BEGIN:VEVENT
UID:13235@kmun.org
DTSTART;TZID=America/Los_Angeles:20240803T140000
DTEND;TZID=America/Los_Angeles:20240803T170000
DTSTAMP:20240410T170836Z
URL:https://kmun.org/events/raku-workshop-2024-08-03/
SUMMARY:Raku Workshop
DESCRIPTION:Explore the world of Raku. Choose between obvara (Baltic Raku: 
 quenching pots in fermented slurries) or more traditional Raku styles. Thi
 s process creates unique and surprising surface patterns.\nUpcoming Raku W
 orkshops:  First Saturday of the Month\, May to August:\nMay 4th\nJune 1s
 t\nJuly 6th\nAugust 3rd\nWe will start every raku session by firing the pr
 evious sessions bisqued work so that you can see the process (2:00pm-3:00p
 m). Then from 3:00pm to 5:00pm you'll work on handbuilding your pieces wit
 h raku clay. Plan to come back the following session to raku fire your own
  pieces.
CATEGORIES:Public Events
LOCATION:Ilwaco Artworks\, 109 First Avenue North\, Ilwaco\, WA\, 98624\, U
 nited States
X-APPLE-STRUCTURED-LOCATION;VALUE=URI;X-ADDRESS=109 First Avenue North\, Il
 waco\, WA\, 98624\, United States;X-APPLE-RADIUS=100;X-TITLE=Ilwaco Artwor
 ks:geo:0,0
END:VEVENT
BEGIN:VTIMEZONE
TZID:America/Los_Angeles
X-LIC-LOCATION:America/Los_Angeles
BEGIN:DAYLIGHT
DTSTART:20240310T030000
TZOFFSETFROM:-0800
TZOFFSETTO:-0700
TZNAME:PDT
END:DAYLIGHT
END:VTIMEZONE
END:VCALENDAR