BEGIN:VCALENDAR
VERSION:2.0
PRODID:-//wp-events-plugin.com//7.2.3.1//EN
TZID:America/Los_Angeles
X-WR-TIMEZONE:America/Los_Angeles
BEGIN:VEVENT
UID:15853@kmun.org
DTSTART;TZID=America/Los_Angeles:20251011T190000
DTEND;TZID=America/Los_Angeles:20251011T230000
DTSTAMP:20250917T183442Z
URL:https://kmun.org/events/rad-rock-show-hecates-head-stinkbug-pulsar-fru
 ited-planes/
SUMMARY:Rad Rock Show: Hecate's Head\, Stinkbug\, Pulsar\, Fruited Planes
DESCRIPTION:Live original rock\, local-area bands including Hecate's Head\,
  Stinkbug\, Pulsar and Fruited Planes. All ages welcome until bedtime for 
 kiddos (?)
CATEGORIES:Public Events
LOCATION:American Legion Astoria\, 1132 Exchange St\, Astoria\, Oregon\, 97
 103\, United States
GEO:46.1876749;-123.83151980000002
X-APPLE-STRUCTURED-LOCATION;VALUE=URI;X-ADDRESS=1132 Exchange St\, Astoria\
 , Oregon\, 97103\, United States;X-APPLE-RADIUS=100;X-TITLE=American Legio
 n Astoria:geo:46.1876749,-123.83151980000002
END:VEVENT
BEGIN:VTIMEZONE
TZID:America/Los_Angeles
X-LIC-LOCATION:America/Los_Angeles
BEGIN:DAYLIGHT
DTSTART:20250309T030000
TZOFFSETFROM:-0800
TZOFFSETTO:-0700
TZNAME:PDT
END:DAYLIGHT
END:VTIMEZONE
END:VCALENDAR