BEGIN:VCALENDAR
VERSION:2.0
PRODID:-//wp-events-plugin.com//7.2.3.1//EN
TZID:America/Los_Angeles
X-WR-TIMEZONE:America/Los_Angeles
BEGIN:VEVENT
UID:13559@kmun.org
DTSTART;TZID=America/Los_Angeles:20241005T100000
DTEND;TZID=America/Los_Angeles:20241005T150000
DTSTAMP:20240724T172401Z
URL:https://kmun.org/events/pnw-authors-book-fair-2/
SUMMARY:PNW Authors Book Fair
DESCRIPTION:Over 30 PNW Authors will be selling and autographing their book
 s at this Second Annual Event.  This year\, KARL MARLANTES\, New York Tim
 es Best Selling Author of Matterhorn\, Deep River\, and Cold Victory\, wil
 l be our featured guest.  Karl\, always an entertaining speaker\, will be
  doing some group Q&amp\;A\, as well as meeting and greeting readers throu
 ghout the day.  BOOKS MAKE GREAT GIFTS\, and it's not too early to start 
 thinking about the readers on your Christmas list--or even for yourself!
CATEGORIES:Public Events
LOCATION:Peninsula Church Center\, 5000 N Pl\, \, Seaview\, WA\, 98644\, Un
 ited States
GEO:46.339028;-124.05335200000002
X-APPLE-STRUCTURED-LOCATION;VALUE=URI;X-ADDRESS=5000 N Pl\, \, Seaview\, WA
 \, 98644\, United States;X-APPLE-RADIUS=100;X-TITLE=Peninsula Church Cente
 r:geo:46.339028,-124.05335200000002
END:VEVENT
BEGIN:VTIMEZONE
TZID:America/Los_Angeles
X-LIC-LOCATION:America/Los_Angeles
BEGIN:DAYLIGHT
DTSTART:20240310T030000
TZOFFSETFROM:-0800
TZOFFSETTO:-0700
TZNAME:PDT
END:DAYLIGHT
END:VTIMEZONE
END:VCALENDAR