BEGIN:VCALENDAR
VERSION:2.0
PRODID:-//wp-events-plugin.com//7.2.3.1//EN
TZID:America/Los_Angeles
X-WR-TIMEZONE:America/Los_Angeles
BEGIN:VEVENT
UID:14152@kmun.org
DTSTART;TZID=America/Los_Angeles;VALUE=DATE:20250118
DTEND;TZID=America/Los_Angeles;VALUE=DATE:20250126
DTSTAMP:20250116T172258Z
URL:https://kmun.org/events/pet-spotlight-for-the-south-pacific-county-hum
 ane-society-6/
SUMMARY:Pet Spotlight for the South Pacific County Humane Society
DESCRIPTION:Meet Cheesy: Your One-and-Only Feline Superstar! My name is Che
 esy\, and I’m a 2-year-old bundle of fun\, love\, and energy. While my c
 alendar says I’m an adult\, my heart and zoomies scream kitten! I’m on
  a mission to find my forever family\, a home where I can be the shining s
 tar and soak up all the love and attention I know I deserve.\nA Little Abo
 ut Me:\nI’m the perfect mix of playful and snuggly\, and I know how to t
 urn on the charm to keep you smiling all day long. Whether it’s a high-s
 peed chase with my favorite toys or curling up next to you for some much-n
 eeded cuddle time\, I’ll always be right by your side. However I do need
  to be the only cat of the household! If you’d like to meet me\, please 
 go to www.beachpets.com and fill out an application today!
CATEGORIES:Radio Events
LOCATION:South Pacific County Humane Society\, 330 NE 2nd St. \, Longbeach\
 , Washington\, 97631\, United States
GEO:46.3521435;-124.04888740000001
X-APPLE-STRUCTURED-LOCATION;VALUE=URI;X-ADDRESS=330 NE 2nd St. \, Longbeach
 \, Washington\, 97631\, United States;X-APPLE-RADIUS=100;X-TITLE=South Pac
 ific County Humane Society:geo:46.3521435,-124.04888740000001
END:VEVENT
BEGIN:VTIMEZONE
TZID:America/Los_Angeles
X-LIC-LOCATION:America/Los_Angeles
BEGIN:STANDARD
DTSTART:20241103T010000
TZOFFSETFROM:-0700
TZOFFSETTO:-0800
TZNAME:PST
END:STANDARD
END:VTIMEZONE
END:VCALENDAR