BEGIN:VCALENDAR
VERSION:2.0
PRODID:-//wp-events-plugin.com//7.2.3.1//EN
TZID:America/Los_Angeles
X-WR-TIMEZONE:America/Los_Angeles
BEGIN:VEVENT
UID:17328@kmun.org
DTSTART;TZID=America/Los_Angeles:20260422T000000
DTEND;TZID=America/Los_Angeles:20260429T000000
DTSTAMP:20260422T162855Z
URL:https://kmun.org/events/pet-spotlight-for-the-south-pacific-county-hum
 ane-society-59/
SUMMARY:Pet Spotlight for the South Pacific County Humane Society
DESCRIPTION:Meet Bruno: Your Spirited Sidekick Awaits\nBruno is a striking 
 tabby with a big personality and an even bigger heart. At just over three 
 years old and a solid 12 pounds\, this handsome boy is full of life\, curi
 osity\, and charm. Whether he’s exploring his surroundings\, chasing a t
 oy\, or simply keeping a watchful eye on his people\, Bruno brings an ener
 gy that’s both lively and endearing.\nHe’s a smart\, engaging companio
 n who truly enjoys being around people and being part of the action. Bruno
  prefers to keep all four paws on the ground rather than being scooped up\
 , but he’s more than happy to stay close by your side\, sharing his pres
 ence in his own confident\, independent way. With a little patience (and p
 erhaps a gentle nudge)\, he’ll even cooperate when it’s time to head i
 nto his carrier.\nBruno is FeLV positive\, which means needs to be the onl
 y cat in the home or with other FeLV positive feline friends. But what he 
 needs in circumstance\, he more than makes up for in companionship. He’s
  looking for a home that will embrace him just as he is—a spirited\, aff
 ectionate cat ready to form a meaningful bond.\nIf you’re looking for a 
 loyal companion with personality to spare\, Bruno might just be your perfe
 ct match.\n
CATEGORIES:Radio Events
LOCATION:South Pacific County Animal Shelter\, 330 2nd Street NE\, Long Bea
 ch\, WA\, United States
GEO:46.3521476;-124.04886809999999
X-APPLE-STRUCTURED-LOCATION;VALUE=URI;X-ADDRESS=330 2nd Street NE\, Long Be
 ach\, WA\, United States;X-APPLE-RADIUS=100;X-TITLE=South Pacific County A
 nimal Shelter:geo:46.3521476,-124.04886809999999
END:VEVENT
BEGIN:VTIMEZONE
TZID:America/Los_Angeles
X-LIC-LOCATION:America/Los_Angeles
BEGIN:DAYLIGHT
DTSTART:20260308T030000
TZOFFSETFROM:-0800
TZOFFSETTO:-0700
TZNAME:PDT
END:DAYLIGHT
END:VTIMEZONE
END:VCALENDAR