BEGIN:VCALENDAR
VERSION:2.0
PRODID:-//wp-events-plugin.com//7.2.3.1//EN
TZID:America/Los_Angeles
X-WR-TIMEZONE:America/Los_Angeles
BEGIN:VEVENT
UID:14044@kmun.org
DTSTART;TZID=America/Los_Angeles;VALUE=DATE:20241118
DTEND;TZID=America/Los_Angeles;VALUE=DATE:20241126
DTSTAMP:20241120T162747Z
URL:https://kmun.org/events/pet-spotlight-for-the-south-pacific-county-hum
 ane-society-3/
SUMMARY:Pet Spotlight for the South Pacific County Humane Society
DESCRIPTION:Meet Jamieson: Your Future Co-Pilot and Canine Buddy! Jamieson 
 is a handsome\, affectionate Pittie mix with a heart as big as his smile! 
 At about two years old\, this playful guy loves car rides—just be prepar
 ed for him to try and be your personal lapdog while you’re behind the wh
 eel! He’s curious about the world around him\, so daily walks are his ja
 m. Jamieson’s boundless energy and fun-loving nature make him the perfec
 t companion for all your adventures\, big or small.\nWhether you're explor
 ing new trails or just lounging on the couch\, Jamieson will be right ther
 e with you\, ready to share his love and loyalty. He's not just looking fo
 r a home—he's looking for his forever family. Maybe you are the one? Com
 e meet Jamison today and let this charming boy steal your heart!
CATEGORIES:Radio Events
LOCATION:South Pacific County Humane Society\, 330 NE 2nd St. \, Longbeach\
 , Washington\, 97631\, United States
GEO:46.3521435;-124.04888740000001
X-APPLE-STRUCTURED-LOCATION;VALUE=URI;X-ADDRESS=330 NE 2nd St. \, Longbeach
 \, Washington\, 97631\, United States;X-APPLE-RADIUS=100;X-TITLE=South Pac
 ific County Humane Society:geo:46.3521435,-124.04888740000001
END:VEVENT
BEGIN:VTIMEZONE
TZID:America/Los_Angeles
X-LIC-LOCATION:America/Los_Angeles
BEGIN:STANDARD
DTSTART:20241103T010000
TZOFFSETFROM:-0700
TZOFFSETTO:-0800
TZNAME:PST
END:STANDARD
END:VTIMEZONE
END:VCALENDAR