BEGIN:VCALENDAR
VERSION:2.0
PRODID:-//wp-events-plugin.com//7.2.3.1//EN
TZID:America/Los_Angeles
X-WR-TIMEZONE:America/Los_Angeles
BEGIN:VEVENT
UID:17322@kmun.org
DTSTART;TZID=America/Los_Angeles:20260502T110000
DTEND;TZID=America/Los_Angeles:20260502T123000
DTSTAMP:20260422T165454Z
URL:https://kmun.org/events/outdoor-dance-in-shively-park/
SUMMARY:Outdoor Dance in Shively Park
DESCRIPTION:On Saturday\, May 2nd we are facilitating an outdoor dance in S
 hively Park\, Astoria from 11:00am until 12:30pm.\nWe'll have an opening c
 ircle\, guided imagery leading into a delightful playlist of music\, follo
 wed by closing the circle. Our portable speaker provides a nice amount of 
 volume for public shared spaces. The dance will be at the top of the hill 
 near the two shelters\, rain or shine.\nThis event is FREE and all ages ar
 e welcome! Please come and join us if you can!
ATTACH;FMTTYPE=image/jpeg:https://kmun.org/wp-content/uploads/2026/04/May-
 2nd-Dance-jpg.jpg
CATEGORIES:Public Events
LOCATION:Shively Park\, 1530 Shively Park Road\, Astoria\, OR\, 97103\, Uni
 ted States
X-APPLE-STRUCTURED-LOCATION;VALUE=URI;X-ADDRESS=1530 Shively Park Road\, As
 toria\, OR\, 97103\, United States;X-APPLE-RADIUS=100;X-TITLE=Shively Park
 :geo:0,0
END:VEVENT
BEGIN:VTIMEZONE
TZID:America/Los_Angeles
X-LIC-LOCATION:America/Los_Angeles
BEGIN:DAYLIGHT
DTSTART:20260308T030000
TZOFFSETFROM:-0800
TZOFFSETTO:-0700
TZNAME:PDT
END:DAYLIGHT
END:VTIMEZONE
END:VCALENDAR