BEGIN:VCALENDAR
VERSION:2.0
PRODID:-//wp-events-plugin.com//7.2.3.1//EN
TZID:America/Los_Angeles
X-WR-TIMEZONE:America/Los_Angeles
BEGIN:VEVENT
UID:15067@kmun.org
DTSTART;TZID=America/Los_Angeles:20250416T080000
DTEND;TZID=America/Los_Angeles:20250416T140000
DTSTAMP:20250409T162035Z
URL:https://kmun.org/events/oregon-small-business-summit-clatsop-county/
SUMMARY:Oregon Small Business Summit: Clatsop County
DESCRIPTION:The Oregon Small Business Development Center is partnering with
  the Oregon Department of Administrative Services to host “Oregon Small 
 Business Summit: Clatsop County" Event at Clatsop Community College – As
 toria Campus.\nAstoria\, OR – April 16th\, 2025 – The “Oregon Small 
 Business Summit: Clatsop County" event is taking place on Wednesday\, Apri
 l 16th at Clatsop Community College – Astoria Campus. This invaluable ed
 ucational seminar and trade show event is designed to empower small busine
 ss owners and aspiring entrepreneurs by connecting them with the resources
  needed to start\, grow\, and strengthen their businesses.\nRegistration i
 s free courtesy of Department of Administrative Services\, space is limite
 d. Complimentary lunch will be provided.\nAttendees will have the opportun
 ity to participate in a morning of business-related workshops\, presentati
 ons and networking aimed at helping small businesses build stronger relati
 onships with community-oriented partners. Participants will also learn abo
 ut the resources and opportunities available locally through City\, State\
 , Federal and Higher Education partners. Additionally\, 4 Oregon Construct
 ion Contractor’s Board (CCB) continuing education credits will be offere
 d to those attending the event.\nJoin us for a productive and informative 
 morning\, where you can enhance your business skills\, network with subjec
 t matter experts\, and connect with other small businesses.\nEvent Details
 :\nDate: Wednesday\, April 16\, 2025\nTime: 8:00am to 2:00pm\nLocation: Cl
 atsop Community College - Astoria Campus 1651 Lexington Ave\, Astoria\, OR
  97103 (Columbia Hall Room 219)\nCost: Free (Registration required)\nInclu
 des: Refreshments\, presentations\, lunch\, networking and workshops\nFor 
 more information and to register for the event\, please visit: https://www
 .oregon.gov/das/Procurement/Pages/equity-outreach.aspx\nWe look forward to
  seeing you there and supporting the growth and success of small businesse
 s in Clatsop County Oregon!\nAbout Oregon Department of Administrative Ser
 vices\nThe Department of Administrative Services is the central administra
 tive department of Oregon state government. Our mission is to lead state a
 gencies through collaboration in service of Oregonians.\nDAS works to effe
 ctively implement the policy and financial decisions made by the Governor 
 and the Oregon Legislature. The department also sets and monitors high sta
 ndards of accountability to ensure that state government uses tax dollars 
 productively. To fulfill its mission\, DAS supports state agencies by prov
 iding a strong and stable management infrastructure. As part of this effor
 t\, DAS works with private enterprise\, citizens and other government enti
 ties to develop an efficient service delivery system.\nLearn more at our a
 gency information page. https://www.oregon.gov/das/Pages/Info.aspx\nDAS Of
 fice of Procurement Equity Homepage: https://www.oregon.gov/das/procuremen
 t/pages/equity.aspx
CATEGORIES:Public Events
LOCATION:Clatsop Community College\, 1651 Lexington Avenue\, Astoria\, Oreg
 on\, 97103\, United States
GEO:46.1838843;-123.82449109999999
X-APPLE-STRUCTURED-LOCATION;VALUE=URI;X-ADDRESS=1651 Lexington Avenue\, Ast
 oria\, Oregon\, 97103\, United States;X-APPLE-RADIUS=100;X-TITLE=Clatsop C
 ommunity College:geo:46.1838843,-123.82449109999999
END:VEVENT
BEGIN:VTIMEZONE
TZID:America/Los_Angeles
X-LIC-LOCATION:America/Los_Angeles
BEGIN:DAYLIGHT
DTSTART:20250309T030000
TZOFFSETFROM:-0800
TZOFFSETTO:-0700
TZNAME:PDT
END:DAYLIGHT
END:VTIMEZONE
END:VCALENDAR