BEGIN:VCALENDAR
VERSION:2.0
PRODID:-//wp-events-plugin.com//7.2.3.1//EN
TZID:America/Los_Angeles
X-WR-TIMEZONE:America/Los_Angeles
BEGIN:VEVENT
UID:17309@kmun.org
DTSTART;TZID=America/Los_Angeles:20260419T150000
DTEND;TZID=America/Los_Angeles:20260419T163000
DTSTAMP:20260417T163053Z
URL:https://kmun.org/events/northwest-piano-trio/
SUMMARY:Northwest Piano Trio
DESCRIPTION:NORTHWEST PIANO TRIO CONCERT IN CANNON BEACH\nNorthwest Piano T
 rio returns to Cannon Beach at 3:00pm\, Sunday\, April 19th\, 2026 to perf
 orm Classical Broadway in collaboration with Ping &amp\; Woof Opera\, feat
 uring Jocelyn Claire Thomas\, soprano &amp\; Zachary Lenox\, baritone. The
  concert will be at Cannon Beach Community Church\, 132 E. Washington St. 
 in downtown Cannon Beach. The concert is free and open to the public. Cash
  or Check donations in support of Northwest Piano Trio may be given at the
  door. The Northwest Piano Trio are based in Portland\, Oregon. The Northw
 est Piano Trio includes Esther Shim on violin\, Hannah Hillebrand on Cello
 \, and pianist Stephanie Smith performing on the Community Church Steinway
  seven-foot grand piano. Violinist Esther Shim plays with Portland Festiva
 l Symphony\, Willamette Master Chorus\, and subs with the Oregon Symphony.
  Cellist Hannah Hillebrand completed her master’s degree in cello perfor
 mance with Hamilton Cheifetz at Portland State University in 2014. While p
 ursuing her degree\, she participated in masterclasses with artists such a
 s the Takacs String Quartet\, the Tokyo String Quartet and cellists Johann
 es Moser and Alban Gerhardt. Pianist Stephanie Smith holds a Bachelor of M
 usic in Piano Performance (1998) from University of Colorado at Boulder an
 d a Master of Music in Chamber Music Performance (2001) from the San Franc
 isco Conservatory of Music.
ATTACH;FMTTYPE=image/jpeg:https://kmun.org/wp-content/uploads/2026/04/NW-P
 iano-Trio-resize.jpg
CATEGORIES:Public Events
LOCATION:Cannon Beach Community Church\, 132 E Washington Street\, Cannon B
 each\, Oregon\, 97110\, United States
GEO:45.8952641;-123.96108800000002
X-APPLE-STRUCTURED-LOCATION;VALUE=URI;X-ADDRESS=132 E Washington Street\, C
 annon Beach\, Oregon\, 97110\, United States;X-APPLE-RADIUS=100;X-TITLE=Ca
 nnon Beach Community Church:geo:45.8952641,-123.96108800000002
END:VEVENT
BEGIN:VTIMEZONE
TZID:America/Los_Angeles
X-LIC-LOCATION:America/Los_Angeles
BEGIN:DAYLIGHT
DTSTART:20260308T030000
TZOFFSETFROM:-0800
TZOFFSETTO:-0700
TZNAME:PDT
END:DAYLIGHT
END:VTIMEZONE
END:VCALENDAR