BEGIN:VCALENDAR
VERSION:2.0
PRODID:-//wp-events-plugin.com//7.2.3.1//EN
TZID:America/Los_Angeles
X-WR-TIMEZONE:America/Los_Angeles
BEGIN:VEVENT
UID:15184@kmun.org
DTSTART;TZID=America/Los_Angeles:20250508T180000
DTEND;TZID=America/Los_Angeles:20250508T210000
DTSTAMP:20250430T163908Z
URL:https://kmun.org/events/north-coast-food-web-benefit-night/
SUMMARY:North Coast Food Web Benefit Night
DESCRIPTION:The North Coast Food Web is a local nonprofit whose work is cen
 tered on local food resiliency and enhanced access to quality food for the
  community.\nWith the current federal administration\, NCFW has had some u
 ncertainty around their funding. Cue fundraiser!\nWe’re having 3 musical
  acts play (Israel Nebeker\, Lake Laconic\, Bellie)\, a silent auction\, a
  raffle\, and some soup and bread for sale ($20/serving).\nFree entry\, do
 ors at 6:00pm\, music at 6:30pm\, and the raffle pulls all night.\n
ATTACH;FMTTYPE=image/jpeg:https://kmun.org/wp-content/uploads/2025/04/BA04
 16BE-9314-478E-B033-E75E86DC9BA0.jpeg
CATEGORIES:Public Events
LOCATION:Obelisk Beer Company\, 598 Bond St\, Astoria\, OR\, United States
X-APPLE-STRUCTURED-LOCATION;VALUE=URI;X-ADDRESS=598 Bond St\, Astoria\, OR\
 , United States;X-APPLE-RADIUS=100;X-TITLE=Obelisk Beer Company:geo:0,0
END:VEVENT
BEGIN:VTIMEZONE
TZID:America/Los_Angeles
X-LIC-LOCATION:America/Los_Angeles
BEGIN:DAYLIGHT
DTSTART:20250309T030000
TZOFFSETFROM:-0800
TZOFFSETTO:-0700
TZNAME:PDT
END:DAYLIGHT
END:VTIMEZONE
END:VCALENDAR