BEGIN:VCALENDAR
VERSION:2.0
PRODID:-//wp-events-plugin.com//7.2.3.1//EN
TZID:America/Los_Angeles
X-WR-TIMEZONE:America/Los_Angeles
BEGIN:VEVENT
UID:15131@kmun.org
DTSTART;TZID=America/Los_Angeles:20250427T150000
DTEND;TZID=America/Los_Angeles:20250427T170000
DTSTAMP:20250418T152514Z
URL:https://kmun.org/events/north-coast-big-band-plays-jazz-at-the-pac/
SUMMARY:North Coast Big Band plays Jazz at the PAC
DESCRIPTION:Don't miss the North Coast Big Band at 3 PM Sunday\, April 27 a
 s they present a benefit concert "Jazz at the Larsen Center"! The Big Band
  is a Partner for the PAC and rehearses and performs at the Larsen Center.
  Their concerts of big band music are very popular!
CATEGORIES:Public Events
LOCATION:Charlene Larsen Center for the Performing Arts\, 588 16th St.\, As
 toria\, OR\, 97103\, United States
X-APPLE-STRUCTURED-LOCATION;VALUE=URI;X-ADDRESS=588 16th St.\, Astoria\, OR
 \, 97103\, United States;X-APPLE-RADIUS=100;X-TITLE=Charlene Larsen Center
  for the Performing Arts:geo:0,0
END:VEVENT
BEGIN:VTIMEZONE
TZID:America/Los_Angeles
X-LIC-LOCATION:America/Los_Angeles
BEGIN:DAYLIGHT
DTSTART:20250309T030000
TZOFFSETFROM:-0800
TZOFFSETTO:-0700
TZNAME:PDT
END:DAYLIGHT
END:VTIMEZONE
END:VCALENDAR