BEGIN:VCALENDAR
VERSION:2.0
PRODID:-//wp-events-plugin.com//7.2.3.1//EN
TZID:America/Los_Angeles
X-WR-TIMEZONE:America/Los_Angeles
BEGIN:VEVENT
UID:16963@kmun.org
DTSTART;TZID=America/Los_Angeles:20260328T120000
DTEND;TZID=America/Los_Angeles:20260328T133000
DTSTAMP:20260305T202931Z
URL:https://kmun.org/events/no-kings-three-nationwide-protest/
SUMMARY:No Kings Three - Nationwide Protest
DESCRIPTION:On Saturday\, March 28th\, Indivisible Northcoast Oregon\, INCO
 \, will be hosting our county’s part in a nation wide protest - the NO K
 INGS THREE\, PEACEFUL\, FAMILY-FRIENDLY\, PROTEST will take place in three
  cities in Clatsop County. They are:\nSeaside: 11:30am – 12:30pm\, on th
 e sidewalk along Highway 101 by the Seaside Outlet Mall\nAstoria: 12:00 no
 on – 1:30pm\, on the sidewalk along the south side of Marine Drive from 
 Portal Park (across from Safeway)\, extending west to 16th and east to 34t
 h.\nCannon Beach: 12:30pm - 2:00pm\, on the steps to Whale Park\, at the c
 orner of 3rd and North Hemlock\nThere will be American flags\, protest sig
 ns\, Know Your Rights cards\, and more at the Seaside and Cannon Beach pro
 tests\, and at Portal Park\, 3255 Leif Erickson Dr.\, across from the Asto
 ria Safeway.\nPlease\, invite others to join with you and millions of othe
 rs at events across the country to say NO KINGS! Bring your enthusiasm\, y
 our patriotism\, a friend and a sign if you can.
CATEGORIES:Public Events
END:VEVENT
BEGIN:VTIMEZONE
TZID:America/Los_Angeles
X-LIC-LOCATION:America/Los_Angeles
BEGIN:DAYLIGHT
DTSTART:20260308T030000
TZOFFSETFROM:-0800
TZOFFSETTO:-0700
TZNAME:PDT
END:DAYLIGHT
END:VTIMEZONE
END:VCALENDAR