BEGIN:VCALENDAR
VERSION:2.0
PRODID:-//wp-events-plugin.com//7.2.3.1//EN
TZID:America/Los_Angeles
X-WR-TIMEZONE:America/Los_Angeles
BEGIN:VEVENT
UID:17304@kmun.org
DTSTART;TZID=America/Los_Angeles:20260509T100000
DTEND;TZID=America/Los_Angeles:20260509T160000
DTSTAMP:20260422T171331Z
URL:https://kmun.org/events/nehalem-bay-garden-club-plant-sale-2/
SUMMARY:Nehalem Bay Garden Club Plant Sale
DESCRIPTION:Nehalem Bay Garden Club Plant Sale\nSaturday\, May 9th\, 2026\n
 10:00am to 4:00pm\nOne Day Only\n43080 North Fork Rd Nehalem\nAt North For
 k Rd and Hwy 53\nAnnuals – Perennials – Tomatoes\nShrubs – House Pla
 nts– Veggies Starts\nMother’s Day Gifts – Raffle\nKid’s Gardening 
 Activity and Sharpenator\nProceeds benefit local organizations that share 
 the Club’s mission.
ATTACH;FMTTYPE=image/jpeg:https://kmun.org/wp-content/uploads/2026/04/2026
 -poster-smaller-rotated.jpg
CATEGORIES:Public Events
LOCATION:Nehalem Bay Garden Club\, 43080 North Fork Rd\, Nehalem\, OR\, Uni
 ted States
X-APPLE-STRUCTURED-LOCATION;VALUE=URI;X-ADDRESS=43080 North Fork Rd\, Nehal
 em\, OR\, United States;X-APPLE-RADIUS=100;X-TITLE=Nehalem Bay Garden Club
 :geo:0,0
END:VEVENT
BEGIN:VTIMEZONE
TZID:America/Los_Angeles
X-LIC-LOCATION:America/Los_Angeles
BEGIN:DAYLIGHT
DTSTART:20260308T030000
TZOFFSETFROM:-0800
TZOFFSETTO:-0700
TZNAME:PDT
END:DAYLIGHT
END:VTIMEZONE
END:VCALENDAR