BEGIN:VCALENDAR
VERSION:2.0
PRODID:-//wp-events-plugin.com//7.2.3.1//EN
TZID:America/Los_Angeles
X-WR-TIMEZONE:America/Los_Angeles
BEGIN:VEVENT
UID:17323@kmun.org
DTSTART;TZID=America/Los_Angeles:20260502T100000
DTEND;TZID=America/Los_Angeles:20260502T180000
DTSTAMP:20260422T165115Z
URL:https://kmun.org/events/mothers-day-pottery-sale/
SUMMARY:MOTHERS DAY POTTERY SALE
DESCRIPTION:Mother’s Day Pottery Sale 🌿\nSaturday\, May 2nd | 10:00am 
 to 6:00pm\nJoin us at Ilwaco Artworks for a day of handmade treasures\, st
 udio exploration\, and gallery browsing. Find something meaningful for Mot
 her’s Day or treat yourself.\n109 1st Ave N\, Ilwaco\, WA
CATEGORIES:Public Events
LOCATION:Ilwaco Artworks\, 109 First Avenue North\, Ilwaco\, WA\, 98624\, U
 nited States
X-APPLE-STRUCTURED-LOCATION;VALUE=URI;X-ADDRESS=109 First Avenue North\, Il
 waco\, WA\, 98624\, United States;X-APPLE-RADIUS=100;X-TITLE=Ilwaco Artwor
 ks:geo:0,0
END:VEVENT
BEGIN:VTIMEZONE
TZID:America/Los_Angeles
X-LIC-LOCATION:America/Los_Angeles
BEGIN:DAYLIGHT
DTSTART:20260308T030000
TZOFFSETFROM:-0800
TZOFFSETTO:-0700
TZNAME:PDT
END:DAYLIGHT
END:VTIMEZONE
END:VCALENDAR