BEGIN:VCALENDAR
VERSION:2.0
PRODID:-//wp-events-plugin.com//7.2.3.1//EN
TZID:America/Los_Angeles
X-WR-TIMEZONE:America/Los_Angeles
BEGIN:VEVENT
UID:13811@kmun.org
DTSTART;TZID=America/Los_Angeles:20241014T190000
DTEND;TZID=America/Los_Angeles:20241014T203000
DTSTAMP:20241002T172626Z
URL:https://kmun.org/events/monday-musical-club-of-tillamook-october-progr
 am-cabaret-and-birthday-party/
SUMMARY:Monday Musical Club of Tillamook - October program - Cabaret and Bi
 rthday Party
DESCRIPTION:The Monday Musical Club of Tillamook announces its October prog
 ram “Cabaret &amp\; MMCT Birthday Party” to be held at the First Chris
 tian Church Fellowship Hall in Tillamook on Monday\, October 14th at 7:00p
 m.\nThe evening features a variety of vocal and instrumental music perform
 ed by local musicians and celebrates Monday Musical Club’s 104th year in
  Tillamook County.\nThe public is invited and the program is free of charg
 e.\nBring a friend and enjoy an evening of live\, local music.\n
ATTACH;FMTTYPE=image/jpeg:https://kmun.org/wp-content/uploads/2024/09/Oct-
 2024-flyer-JPG-thumbnail-1.jpg
CATEGORIES:Public Events
LOCATION:First Christian Church\, 2203 4th Street\, Tillamook\, Oregon/Till
 amook\, 97141\, United States
X-APPLE-STRUCTURED-LOCATION;VALUE=URI;X-ADDRESS=2203 4th Street\, Tillamook
 \, Oregon/Tillamook\, 97141\, United States;X-APPLE-RADIUS=100;X-TITLE=Fir
 st Christian Church:geo:0,0
END:VEVENT
BEGIN:VTIMEZONE
TZID:America/Los_Angeles
X-LIC-LOCATION:America/Los_Angeles
BEGIN:DAYLIGHT
DTSTART:20240310T030000
TZOFFSETFROM:-0800
TZOFFSETTO:-0700
TZNAME:PDT
END:DAYLIGHT
END:VTIMEZONE
END:VCALENDAR