BEGIN:VCALENDAR
VERSION:2.0
PRODID:-//wp-events-plugin.com//7.2.3.1//EN
TZID:America/Los_Angeles
X-WR-TIMEZONE:America/Los_Angeles
BEGIN:VEVENT
UID:13999@kmun.org
DTSTART;TZID=America/Los_Angeles:20241118T190000
DTEND;TZID=America/Los_Angeles:20241118T203000
DTSTAMP:20241113T180423Z
URL:https://kmun.org/events/monday-musical-club-of-tillamook-november-prog
 ram-thankful-and-blessed/
SUMMARY:Monday Musical Club of Tillamook - November Program - "Thankful and
  Blessed"
DESCRIPTION:The Monday Musical Club of Tillamook will hold Its November pro
 gram\, “Thankful and Blessed” at the First Christian Church on Monday\
 , November 18th at 7:00pm. The program hosted by Donna Miles will feature 
 a variety of vocal and instrumental music.\nCome enjoy a musical evening a
 s local musicians share music of Thanksgiving.\n\nThere is no admission ch
 arge\, and it is open to the public.\nCome enjoy an evening of live music 
 by local musicians.\n
ATTACH;FMTTYPE=image/jpeg:https://kmun.org/wp-content/uploads/2024/11/MMCT
 -Nov-24-flyer-jpg-thumbnail.jpg
CATEGORIES:Public Events
LOCATION:First Christian Church\, 2203 4th Street\, Tillamook\, Oregon\, 97
 141\, United States
X-APPLE-STRUCTURED-LOCATION;VALUE=URI;X-ADDRESS=2203 4th Street\, Tillamook
 \, Oregon\, 97141\, United States;X-APPLE-RADIUS=100;X-TITLE=First Christi
 an Church:geo:0,0
END:VEVENT
BEGIN:VTIMEZONE
TZID:America/Los_Angeles
X-LIC-LOCATION:America/Los_Angeles
BEGIN:STANDARD
DTSTART:20241103T010000
TZOFFSETFROM:-0700
TZOFFSETTO:-0800
TZNAME:PST
END:STANDARD
END:VTIMEZONE
END:VCALENDAR