BEGIN:VCALENDAR
VERSION:2.0
PRODID:-//wp-events-plugin.com//7.2.3.1//EN
TZID:America/Los_Angeles
X-WR-TIMEZONE:America/Los_Angeles
BEGIN:VEVENT
UID:15013@kmun.org
DTSTART;TZID=America/Los_Angeles:20250403T190000
DTEND;TZID=America/Los_Angeles:20250403T210000
DTSTAMP:20250319T165433Z
URL:https://kmun.org/events/lower-columbia-danish-society-meeting-2/
SUMMARY:Lower Columbia Danish Society Meeting
DESCRIPTION:On Thursday\, April 3rd the Lower Columbia Danish Society Meeti
 ng will be at the Peace First Lutheran Church in Astoria.\nThe 2025 Midsum
 mer Festival Court will be our guests. They will tell about their costumes
  and family’s heritage to the country they represent. There will be no r
 egular business meeting. Refreshments will be served following their prese
 ntation.
CATEGORIES:Public Events
LOCATION:Peace First Lutheran Chruch Uppertown\, 725 33rd St\, Astoria\, OR
 \, 97103\, United States
X-APPLE-STRUCTURED-LOCATION;VALUE=URI;X-ADDRESS=725 33rd St\, Astoria\, OR\
 , 97103\, United States;X-APPLE-RADIUS=100;X-TITLE=Peace First Lutheran Ch
 ruch Uppertown:geo:0,0
END:VEVENT
BEGIN:VTIMEZONE
TZID:America/Los_Angeles
X-LIC-LOCATION:America/Los_Angeles
BEGIN:DAYLIGHT
DTSTART:20250309T030000
TZOFFSETFROM:-0800
TZOFFSETTO:-0700
TZNAME:PDT
END:DAYLIGHT
END:VTIMEZONE
END:VCALENDAR