BEGIN:VCALENDAR
VERSION:2.0
PRODID:-//wp-events-plugin.com//7.2.3.1//EN
TZID:America/Los_Angeles
X-WR-TIMEZONE:America/Los_Angeles
BEGIN:VEVENT
UID:15012@kmun.org
DTSTART;TZID=America/Los_Angeles:20250412T160000
DTEND;TZID=America/Los_Angeles:20250412T180000
DTSTAMP:20250319T175501Z
URL:https://kmun.org/events/library-after-dark-author-talk-6/
SUMMARY:"Library After Dark" Author Talk
DESCRIPTION:The Warrenton Community Library is hosting author Steven Craig 
 at "Library After Dark" on Saturday\, April 12th at 4:00pm. Steven will sh
 are more about his writing process\, read excerpts from his works and answ
 er audience questions.\nSteven Craig is a retired Coast Guard Reserve Capt
 ain with over 38 years of combined active and reserve service and a retire
 d Postmaster with the U.S. Postal Service. He holds a master’s degree in
  emergency management and has served in various emergency management roles
  with federal\, state\, college\, county\, and local agencies. He has also
  taught at multiple venues\, including a tenure at a university in Pavia\,
  Italy. Steven is the author of four books\, including the award-winning\,
  "All Present and Accounted For". His presentation will focus on the groun
 ding and near-sinking of the Coast Guard Cutter Jarvis in Alaska in Novemb
 er 1972\, highlighting the heroic efforts that saved the ship. His upcomin
 g book\, which focuses on emergency preparedness\, is scheduled for releas
 e in late spring. He currently resides in Centralia\, Washington. More inf
 o can be found on his website\, www.stevenjcraig.com.\nAuthor talk starts 
 at 4:00pm\; refreshments and mingling at 5:00pm. Special thanks to Gaetano
 's Market and Deli for sponsoring the food.\n"Library After Dark" is a mon
 thly PNW author series. This event is free to attend and is hosted by the 
 Friends of Warrenton Community Library.\n
ATTACH;FMTTYPE=image/jpeg:https://kmun.org/wp-content/uploads/2025/03/Stev
 en-Craig.png
CATEGORIES:Public Events
LOCATION:Warrenton Community Library\, 160 S. Main Street\, Warrenton\, Ore
 gon\, 97146\, United States
GEO:46.1641304;-123.92469770000002
X-APPLE-STRUCTURED-LOCATION;VALUE=URI;X-ADDRESS=160 S. Main Street\, Warren
 ton\, Oregon\, 97146\, United States;X-APPLE-RADIUS=100;X-TITLE=Warrenton 
 Community Library:geo:46.1641304,-123.92469770000002
END:VEVENT
BEGIN:VTIMEZONE
TZID:America/Los_Angeles
X-LIC-LOCATION:America/Los_Angeles
BEGIN:DAYLIGHT
DTSTART:20250309T030000
TZOFFSETFROM:-0800
TZOFFSETTO:-0700
TZNAME:PDT
END:DAYLIGHT
END:VTIMEZONE
END:VCALENDAR