BEGIN:VCALENDAR
VERSION:2.0
PRODID:-//wp-events-plugin.com//7.2.3.1//EN
TZID:America/Los_Angeles
X-WR-TIMEZONE:America/Los_Angeles
BEGIN:VEVENT
UID:17256@kmun.org
DTSTART;TZID=America/Los_Angeles:20260411T160000
DTEND;TZID=America/Los_Angeles:20260411T180000
DTSTAMP:20260408T171108Z
URL:https://kmun.org/events/library-after-dark-author-talk-14/
SUMMARY:"Library After Dark" Author Talk
DESCRIPTION:The Warrenton Community Library is hosting author Evan Morgan W
 illiams at "Library After Dark" on Saturday\, April 11th at 4:00pm.\nEvan 
 Morgan Williams is the recipient of a 2024 Oregon Literary Fellowship. He 
 is the author of four collections of stories: Thorn (BkMk Press\, 2014)\, 
 Canyons (2018)\, Stories of the New West (Main Street Rag\, 2021)\, and Th
 e Divide (Cornerstone Press\, 2026). He has published over 75 stories in j
 ournals including Kenyon Review\, Witness\, and Zyzzyva. He holds an MFA f
 rom the University of Montana (1991). He is retired after 29 years of teac
 hing in a public school.\nAuthor talk starts at 4:00pm\; refreshments and 
 mingling at 5:00pm. Special thanks to Gaetano's Market &amp\; Deli for spo
 nsoring the food.\n"Library After Dark" is a monthly PNW author series. Th
 is event is free to attend and is hosted by the Friends of Warrenton Commu
 nity Library.
CATEGORIES:Public Events
LOCATION:Warrenton Community Library\, 160 S. Main Street\, Warrenton\, Ore
 gon\, 97146\, United States
GEO:46.1641304;-123.92469770000002
X-APPLE-STRUCTURED-LOCATION;VALUE=URI;X-ADDRESS=160 S. Main Street\, Warren
 ton\, Oregon\, 97146\, United States;X-APPLE-RADIUS=100;X-TITLE=Warrenton 
 Community Library:geo:46.1641304,-123.92469770000002
END:VEVENT
BEGIN:VTIMEZONE
TZID:America/Los_Angeles
X-LIC-LOCATION:America/Los_Angeles
BEGIN:DAYLIGHT
DTSTART:20260308T030000
TZOFFSETFROM:-0800
TZOFFSETTO:-0700
TZNAME:PDT
END:DAYLIGHT
END:VTIMEZONE
END:VCALENDAR