BEGIN:VCALENDAR
VERSION:2.0
PRODID:-//wp-events-plugin.com//7.2.3.1//EN
TZID:America/Los_Angeles
X-WR-TIMEZONE:America/Los_Angeles
BEGIN:VEVENT
UID:17318@kmun.org
DTSTART;TZID=America/Los_Angeles:20260628T160000
DTEND;TZID=America/Los_Angeles:20260628T180000
DTSTAMP:20260422T175046Z
URL:https://kmun.org/events/just-for-the-fun-of-it-again/
SUMMARY:Just for the Fun of It - Again
DESCRIPTION:Date: Sunday\, June 28th 2026\nTime: 4:00pm\nTitle: "Just for t
 he Fun of It - Again!"\nMusic: Beetles\, Mammas &amp\; Pappas\, Chicago\, 
 Disco\, and more\nPurpose: Annual Benefit for the Charlene Larsen Center\n
 Ticket Price: Pay what you can. Suggested donation - $10
CATEGORIES:Public Events
LOCATION:Charlene Larsen Center for the Performing Arts\, 588 16th St.\, As
 toria\, OR\, 97103\, United States
X-APPLE-STRUCTURED-LOCATION;VALUE=URI;X-ADDRESS=588 16th St.\, Astoria\, OR
 \, 97103\, United States;X-APPLE-RADIUS=100;X-TITLE=Charlene Larsen Center
  for the Performing Arts:geo:0,0
END:VEVENT
BEGIN:VTIMEZONE
TZID:America/Los_Angeles
X-LIC-LOCATION:America/Los_Angeles
BEGIN:DAYLIGHT
DTSTART:20260308T030000
TZOFFSETFROM:-0800
TZOFFSETTO:-0700
TZNAME:PDT
END:DAYLIGHT
END:VTIMEZONE
END:VCALENDAR