BEGIN:VCALENDAR
VERSION:2.0
PRODID:-//wp-events-plugin.com//7.2.3.1//EN
TZID:America/Los_Angeles
X-WR-TIMEZONE:America/Los_Angeles
BEGIN:VEVENT
UID:13668@kmun.org
DTSTART;TZID=America/Los_Angeles:20241112T180000
DTEND;TZID=America/Los_Angeles:20241112T210000
DTSTAMP:20240821T170518Z
URL:https://kmun.org/events/iron-chef-goes-coastal/
SUMMARY:Iron Chef Goes Coastal
DESCRIPTION:Come experience the 15th Annual Iron Chef Goes Coastal. Join th
 e excitement as local chefs battle it out for the coveted Iron Chef title.
  Simultaneously\, over a dozen local restaurants will vie to win over the 
 palates of attendees via the “People’s Choice” competition and “Be
 st Dessert of Clatsop County”.\nTickets now available at https://aftonti
 ckets.com/Ironchef
CATEGORIES:Public Events
LOCATION:Seaside Convention Center\, 415 First Avenue\, Seaside\, Oregon\, 
 97138\, United States
GEO:45.9940788;-123.92544680000003
X-APPLE-STRUCTURED-LOCATION;VALUE=URI;X-ADDRESS=415 First Avenue\, Seaside\
 , Oregon\, 97138\, United States;X-APPLE-RADIUS=100;X-TITLE=Seaside Conven
 tion Center:geo:45.9940788,-123.92544680000003
END:VEVENT
BEGIN:VTIMEZONE
TZID:America/Los_Angeles
X-LIC-LOCATION:America/Los_Angeles
BEGIN:STANDARD
DTSTART:20241103T010000
TZOFFSETFROM:-0700
TZOFFSETTO:-0800
TZNAME:PST
END:STANDARD
END:VTIMEZONE
END:VCALENDAR