BEGIN:VCALENDAR
VERSION:2.0
PRODID:-//wp-events-plugin.com//7.2.3.1//EN
TZID:America/Los_Angeles
X-WR-TIMEZONE:America/Los_Angeles
BEGIN:VEVENT
UID:17319@kmun.org
DTSTART;TZID=America/Los_Angeles:20260509T190000
DTEND;TZID=America/Los_Angeles:20260509T213000
DTSTAMP:20260422T172458Z
URL:https://kmun.org/events/ilwaco-high-school-jazz-night-club/
SUMMARY:Ilwaco High School Jazz Night Club
DESCRIPTION:Come enjoy over 2 hours of Jazz music provided by the award win
 ning Ilwaco High School Jazz Band. Tickets are $10 at the door.
CATEGORIES:Public Events
LOCATION:Astoria Elks Lodge\, 453 11th Street\, Astoria\, OR\, 97103\, Unit
 ed States
GEO:46.1878847;-123.83212960000003
X-APPLE-STRUCTURED-LOCATION;VALUE=URI;X-ADDRESS=453 11th Street\, Astoria\,
  OR\, 97103\, United States;X-APPLE-RADIUS=100;X-TITLE=Astoria Elks Lodge:
 geo:46.1878847,-123.83212960000003
END:VEVENT
BEGIN:VTIMEZONE
TZID:America/Los_Angeles
X-LIC-LOCATION:America/Los_Angeles
BEGIN:DAYLIGHT
DTSTART:20260308T030000
TZOFFSETFROM:-0800
TZOFFSETTO:-0700
TZNAME:PDT
END:DAYLIGHT
END:VTIMEZONE
END:VCALENDAR