BEGIN:VCALENDAR
VERSION:2.0
PRODID:-//wp-events-plugin.com//7.2.3.1//EN
TZID:America/Los_Angeles
X-WR-TIMEZONE:America/Los_Angeles
BEGIN:VEVENT
UID:15026@kmun.org
DTSTART;TZID=America/Los_Angeles:20250412T110000
DTEND;TZID=America/Los_Angeles:20250412T150000
DTSTAMP:20250320T181814Z
URL:https://kmun.org/events/home-and-chef-tour-2/
SUMMARY:Home and Chef Tour
DESCRIPTION:🌅🏇 Get Ready for the Event of the Season! 🏡🍽️\nJo
 in us for Assistance League’s Home &amp\; Chef Tour: Sunsets to Polo Fie
 lds—April 12th!\n🌟 Explore stunning homes\, savor gourmet bites from 
 top chefs\, and support local children in need.\n✨ Tickets are on sale n
 ow! Get yours through our Facebook page\, website\, or Eventbrite —don
 ’t miss out!\nTickets are $40 + fees and every ticket helps fund vital p
 rograms like Operation School Bell. Let’s make a difference together! 
 💙\n#HomeAndChefTour #SunsetsToPoloFields #AssistanceLeague #Fundraiser 
 #SupportLocalKids\n
ATTACH;FMTTYPE=image/jpeg:https://kmun.org/wp-content/uploads/2025/03/700-
 pixels.jpeg
CATEGORIES:Public Events
LOCATION:Sunset Beach\, 33223 Sunset Beach Rd\, Warrenton\, OR\, United Sta
 tes
X-APPLE-STRUCTURED-LOCATION;VALUE=URI;X-ADDRESS=33223 Sunset Beach Rd\, War
 renton\, OR\, United States;X-APPLE-RADIUS=100;X-TITLE=Sunset Beach:geo:0,
 0
END:VEVENT
BEGIN:VTIMEZONE
TZID:America/Los_Angeles
X-LIC-LOCATION:America/Los_Angeles
BEGIN:DAYLIGHT
DTSTART:20250309T030000
TZOFFSETFROM:-0800
TZOFFSETTO:-0700
TZNAME:PDT
END:DAYLIGHT
END:VTIMEZONE
END:VCALENDAR