BEGIN:VCALENDAR
VERSION:2.0
PRODID:-//wp-events-plugin.com//7.2.3.1//EN
TZID:America/Los_Angeles
X-WR-TIMEZONE:America/Los_Angeles
BEGIN:VEVENT
UID:15172@kmun.org
DTSTART;TZID=America/Los_Angeles;VALUE=DATE:20250501
DTEND;TZID=America/Los_Angeles;VALUE=DATE:20250508
DTSTAMP:20250430T161939Z
URL:https://kmun.org/events/help-united-paws-of-tillamook-seeks-foster-vol
 unteers/
SUMMARY:Help! United Paws of Tillamook Seeks Foster Volunteers
DESCRIPTION:Studies show that both volunteering and caring for animals cont
 ribute to improved health and happiness. United Paws of Tillamook (UP) is 
 an all-volunteer nonprofit dedicated to alleviating animal suffering by hu
 manely addressing cat and kitten overpopulation and homelessness. Tillamoo
 k County animal resources are limited and the calls to UP for help are inc
 reasing. We need more foster volunteers to help us provide safe and loving
  shelter for abandoned cats and kittens.\nUP provides ongoing support for 
 foster volunteers\, including cat supplies\, needed veterinary care\, and 
 assistance from experienced foster mentors. Our fosters enjoy the companio
 nship of a loving animal without the long-term commitment of adoption.\nUn
 ited Paws also needs help with spay/neuter clinics\, driving animals to ve
 t appointments\, sewing cat blankets\, data entry\, and more. Please visit
  our website at unitedpaws.wordpress.com or call us at 503-842-5663 to lea
 rn more. You can also complete a volunteer application online to share you
 r interests and skills with United Paws.\n
ATTACH;FMTTYPE=image/jpeg:https://kmun.org/wp-content/uploads/2025/04/IMG_
 4198.png
CATEGORIES:Radio Events
LOCATION:United Paws of Tillamook\, 1180 Main Ave. North\, Tillamook\, OR\,
  97141\, United States
X-APPLE-STRUCTURED-LOCATION;VALUE=URI;X-ADDRESS=1180 Main Ave. North\, Till
 amook\, OR\, 97141\, United States;X-APPLE-RADIUS=100;X-TITLE=United Paws 
 of Tillamook:geo:0,0
END:VEVENT
BEGIN:VTIMEZONE
TZID:America/Los_Angeles
X-LIC-LOCATION:America/Los_Angeles
BEGIN:DAYLIGHT
DTSTART:20250309T030000
TZOFFSETFROM:-0800
TZOFFSETTO:-0700
TZNAME:PDT
END:DAYLIGHT
END:VTIMEZONE
END:VCALENDAR