BEGIN:VCALENDAR
VERSION:2.0
PRODID:-//wp-events-plugin.com//7.2.3.1//EN
TZID:America/Los_Angeles
X-WR-TIMEZONE:America/Los_Angeles
BEGIN:VEVENT
UID:15217@kmun.org
DTSTART;TZID=America/Los_Angeles:20250517T100000
DTEND;TZID=America/Los_Angeles:20250517T130000
DTSTAMP:20250505T154006Z
URL:https://kmun.org/events/great-white-tail-run-sponsored-by-wahkiakum-4-
 h/
SUMMARY:Great White Tail Run sponsored by Wahkiakum 4-H
DESCRIPTION:It is that time of year to get your walking/running shoes duste
 d off and register for the Wahkiakum 4-H 41st Great White Tail Run on Satu
 rday\, May 17th. Please help spread the word about this family fun event t
 o help support Wahkiakum 4-H. This is an in person walk or run event plus 
 virtual too! Our annual run encourages social leashed canine participants 
 with their owners. We look forward to seeing new and familiar faces!\nUse 
 the link below to register online today! https://runsignup.com/Race/WA/Ska
 mokawa/GreatWhiteTailRun\nIf you prefer to register by mail\, please use t
 he brochure below:\nhttps://extension.wsu.edu/.../4-h-great-white-tail-run
 /\n
ATTACH;FMTTYPE=image/jpeg:https://kmun.org/wp-content/uploads/2025/05/GWTR
 flyer2025.jpg
CATEGORIES:Public Events
LOCATION:Julia Butler Hansen National Refuge\, Steam Boat Slough Rd.\, Skam
 okawa \, Washington \, S.W. Washington \, United States
X-APPLE-STRUCTURED-LOCATION;VALUE=URI;X-ADDRESS=Steam Boat Slough Rd.\, Ska
 mokawa \, Washington \, S.W. Washington \, United States;X-APPLE-RADIUS=10
 0;X-TITLE=Julia Butler Hansen National Refuge:geo:0,0
END:VEVENT
BEGIN:VTIMEZONE
TZID:America/Los_Angeles
X-LIC-LOCATION:America/Los_Angeles
BEGIN:DAYLIGHT
DTSTART:20250309T030000
TZOFFSETFROM:-0800
TZOFFSETTO:-0700
TZNAME:PDT
END:DAYLIGHT
END:VTIMEZONE
END:VCALENDAR