BEGIN:VCALENDAR
VERSION:2.0
PRODID:-//wp-events-plugin.com//7.2.3.1//EN
TZID:America/Los_Angeles
X-WR-TIMEZONE:America/Los_Angeles
BEGIN:VEVENT
UID:15864@kmun.org
DTSTART;TZID=America/Los_Angeles:20251018T210000
DTEND;TZID=America/Los_Angeles:20251018T230000
DTSTAMP:20250917T184052Z
URL:https://kmun.org/events/ghastly-gala/
SUMMARY:Ghastly Gala
DESCRIPTION:Whether you want to monster mash or dance with spooky skeletons
 \, we’ve partnered with Elevated Whispers and the Magic of Astoria event
  for our Ghastly Gala Dance Party on Saturday\, October 18th from 9:00pm t
 o 11:00pm in the Basement of Stranded Cocktail bar. Special Witches dance 
 at 10:00pm. This is a 21+ ticketed event: $10 at the door or half off with
  a qualifying purchase from our partners! Costumes encouraged. Continue th
 e fun with The Witching Hour after party at Xanadu.
ATTACH;FMTTYPE=image/jpeg:https://kmun.org/wp-content/uploads/2025/09/GALA
 -HEADER.png
CATEGORIES:Public Events
LOCATION:Stranded\, 1412 Commercial Street\, Astoria\, Oregon\, 97103\, Uni
 ted States
X-APPLE-STRUCTURED-LOCATION;VALUE=URI;X-ADDRESS=1412 Commercial Street\, As
 toria\, Oregon\, 97103\, United States;X-APPLE-RADIUS=100;X-TITLE=Stranded
 :geo:0,0
END:VEVENT
BEGIN:VTIMEZONE
TZID:America/Los_Angeles
X-LIC-LOCATION:America/Los_Angeles
BEGIN:DAYLIGHT
DTSTART:20250309T030000
TZOFFSETFROM:-0800
TZOFFSETTO:-0700
TZNAME:PDT
END:DAYLIGHT
END:VTIMEZONE
END:VCALENDAR