BEGIN:VCALENDAR
VERSION:2.0
PRODID:-//wp-events-plugin.com//7.2.3.1//EN
TZID:America/Los_Angeles
X-WR-TIMEZONE:America/Los_Angeles
BEGIN:VEVENT
UID:13664@kmun.org
DTSTART;TZID=America/Los_Angeles:20240907T130000
DTEND;TZID=America/Los_Angeles:20240907T150000
DTSTAMP:20240821T170051Z
URL:https://kmun.org/events/film-screening-at-the-seaside-public-library-2
 /
SUMMARY:Film screening at the Seaside Public Library
DESCRIPTION:On Saturday\, September 7th at 1:00pm the Seaside Public Librar
 y will be having a film screening of a 1990s comedy. The film will be show
 ing in the Library's Community Room. More information on the movie can be 
 found at\,\nseasidelibrary.org/index.php/movies
CATEGORIES:Public Events
LOCATION:Seaside Public Library\, 1131 Broadway Street\, Seaside\, Oregon\,
  United States
GEO:45.9931184;-123.91635889999998
X-APPLE-STRUCTURED-LOCATION;VALUE=URI;X-ADDRESS=1131 Broadway Street\, Seas
 ide\, Oregon\, United States;X-APPLE-RADIUS=100;X-TITLE=Seaside Public Lib
 rary:geo:45.9931184,-123.91635889999998
END:VEVENT
BEGIN:VTIMEZONE
TZID:America/Los_Angeles
X-LIC-LOCATION:America/Los_Angeles
BEGIN:DAYLIGHT
DTSTART:20240310T030000
TZOFFSETFROM:-0800
TZOFFSETTO:-0700
TZNAME:PDT
END:DAYLIGHT
END:VTIMEZONE
END:VCALENDAR