BEGIN:VCALENDAR
VERSION:2.0
PRODID:-//wp-events-plugin.com//7.2.3.1//EN
TZID:America/Los_Angeles
X-WR-TIMEZONE:America/Los_Angeles
BEGIN:VEVENT
UID:16851@kmun.org
DTSTART;TZID=America/Los_Angeles:20260219T180000
DTEND;TZID=America/Los_Angeles:20260219T200000
DTSTAMP:20260218T173640Z
URL:https://kmun.org/events/february-tnt-its-a-city-park/
SUMMARY:February TNT: It's a City Park?
DESCRIPTION:Join us for the February TNT presentation as Astoria’s Direct
 or of Parks and Recreation\, Jonah Dart‑McLean\, explores the Parks Depa
 rtment’s century‑long stewardship of one of the city’s most iconic l
 andmarks—the Astoria Column.\nThe event is free and held at Fort George 
 Brewery’s Lovell Showroom (14th &amp\; Duane\, Astoria). Doors open at 6
 :00pm\; talk begins at 7:00pm. Food and beverages available. Minors welcom
 e with an adult.\nFor details\, call (503) 325-2203 or email info@astoriam
 useums.org.\nClatsop County Historical Society is a privately funded\, ind
 ependent\, 501(C)(3) not-for-profit educational organization dedicated to 
 preserving and presenting the history of Clatsop County\, Oregon\, and the
  surrounding area. The Society operates the Flavel House Museum\, the Heri
 tage Museum\, the Oregon Film Museum\, and the Uppertown Firefighters Muse
 um.
CATEGORIES:Public Events
LOCATION:Fort George Lovell Showroom\, 14th and Duane St.\, Astoria\, OR\, 
 97103\, United States
GEO:46.1884825;-123.82856649999997
X-APPLE-STRUCTURED-LOCATION;VALUE=URI;X-ADDRESS=14th and Duane St.\, Astori
 a\, OR\, 97103\, United States;X-APPLE-RADIUS=100;X-TITLE=Fort George Love
 ll Showroom:geo:46.1884825,-123.82856649999997
END:VEVENT
BEGIN:VTIMEZONE
TZID:America/Los_Angeles
X-LIC-LOCATION:America/Los_Angeles
BEGIN:STANDARD
DTSTART:20251102T010000
TZOFFSETFROM:-0700
TZOFFSETTO:-0800
TZNAME:PST
END:STANDARD
END:VTIMEZONE
END:VCALENDAR