BEGIN:VCALENDAR
VERSION:2.0
PRODID:-//wp-events-plugin.com//7.2.3.1//EN
TZID:America/Los_Angeles
X-WR-TIMEZONE:America/Los_Angeles
BEGIN:VEVENT
UID:17327@kmun.org
DTSTART;TZID=America/Los_Angeles;VALUE=DATE:20260422
DTEND;TZID=America/Los_Angeles;VALUE=DATE:20260430
DTSTAMP:20260422T161953Z
URL:https://kmun.org/events/featured-pet-of-the-week-for-the-clatsop-count
 y-animal-shelter-76/
SUMMARY:Featured Pet of the Week for the Clatsop County Animal Shelter
DESCRIPTION:The Featured Pet of the Week for the Clatsop County Animal Shel
 ter is RICKY a 3 year old all black male cat.  Ricky is a gentle sweet so
 ul who just wants love and pets.  He is healing from a burn and is curren
 tly wearing a donut while he heals.  He is ready for a cozy home.\nSee RI
 CKY and other animals at the Clatsop Animal Assistance facebook page and t
 he website at clatsopanimalassistance.org  The shelter is open from 9:30a
 m to 4:00pm (closed 12:30pm to 1:30pm for lunch).  Call the Shelter at 50
 3-861-7387  for an appointment.\n 
CATEGORIES:Public Events
LOCATION:Clatsop County Animal Shelter\, 1315 SE 19th Street\, Warrenton\, 
 OR\, 97146\, United States
GEO:46.143868;-123.90518659999998
X-APPLE-STRUCTURED-LOCATION;VALUE=URI;X-ADDRESS=1315 SE 19th Street\, Warre
 nton\, OR\, 97146\, United States;X-APPLE-RADIUS=100;X-TITLE=Clatsop Count
 y Animal Shelter:geo:46.143868,-123.90518659999998
END:VEVENT
BEGIN:VTIMEZONE
TZID:America/Los_Angeles
X-LIC-LOCATION:America/Los_Angeles
BEGIN:DAYLIGHT
DTSTART:20260308T030000
TZOFFSETFROM:-0800
TZOFFSETTO:-0700
TZNAME:PDT
END:DAYLIGHT
END:VTIMEZONE
END:VCALENDAR