BEGIN:VCALENDAR
VERSION:2.0
PRODID:-//wp-events-plugin.com//7.2.3.1//EN
TZID:America/Los_Angeles
X-WR-TIMEZONE:America/Los_Angeles
BEGIN:VEVENT
UID:15528@kmun.org
DTSTART;TZID=America/Los_Angeles;VALUE=DATE:20250618
DTEND;TZID=America/Los_Angeles;VALUE=DATE:20250626
DTSTAMP:20250618T161518Z
URL:https://kmun.org/events/featured-pet-of-the-week-for-the-clatsop-count
 y-animal-shelter-35/
SUMMARY:Featured Pet of the Week for the Clatsop County Animal Shelter
DESCRIPTION:The Featured Pet of the Week for the Clatsop County Animal Shel
 ter is OSO\, a black and white l.5 year old male Mastiff with a huge heart
  of gold.  He's a big boy who weighs in at 105 pounds.  He's been on sev
 eral outings lately and has been wonderful.  Call the shelter at 503-86l-
 7387 to make an appointment to see him.\nSee Oso and other animals at pet
 finder.com.  Also check out the Clatsop Animal Assistance facebook page a
 nd the website at dogsncatsorg. The shelter is openTuesday through Saturda
 y from 9:30am to 4:00pm (closed 12:30pm to l:30pm for lunch).\n&nbsp\;
CATEGORIES:Public Events
LOCATION:Clatsop County Animal Shelter\, 1315 SE 19th Street\, Warrenton\, 
 OR\, 97146\, United States
GEO:46.143868;-123.90518659999998
X-APPLE-STRUCTURED-LOCATION;VALUE=URI;X-ADDRESS=1315 SE 19th Street\, Warre
 nton\, OR\, 97146\, United States;X-APPLE-RADIUS=100;X-TITLE=Clatsop Count
 y Animal Shelter:geo:46.143868,-123.90518659999998
END:VEVENT
BEGIN:VTIMEZONE
TZID:America/Los_Angeles
X-LIC-LOCATION:America/Los_Angeles
BEGIN:DAYLIGHT
DTSTART:20250309T030000
TZOFFSETFROM:-0800
TZOFFSETTO:-0700
TZNAME:PDT
END:DAYLIGHT
END:VTIMEZONE
END:VCALENDAR