BEGIN:VCALENDAR
VERSION:2.0
PRODID:-//wp-events-plugin.com//7.2.3.1//EN
TZID:America/Los_Angeles
X-WR-TIMEZONE:America/Los_Angeles
BEGIN:VEVENT
UID:15291@kmun.org
DTSTART;TZID=America/Los_Angeles;VALUE=DATE:20250521
DTEND;TZID=America/Los_Angeles;VALUE=DATE:20250529
DTSTAMP:20250521T161323Z
URL:https://kmun.org/events/featured-pet-of-the-week-for-the-clatsop-count
 y-animal-shelter-31/
SUMMARY:Featured Pet of the Week for the Clatsop County Animal Shelter
DESCRIPTION:The Featured Pet of the Week for the Clatsop County Animal Shel
 ter is SHADOW is a 2 year old male Catahoula/Pit mix dog.  He came to the
  shelter as a stray.  Volunteers say he has a happy\, goofy disposition.
   He's very handsome.  Would like to be an only dog.  Come meet him!\nT
 he shelter is open Tuesday through Saturday from 9:30am to 4:00pm (closed 
 12:30pm to l:30pm for lunch).  Call the shelter at 503-86l-7387 to make a
  dog appointment.
CATEGORIES:Public Events
LOCATION:Clatsop County Animal Shelter\, 1315 SE 19th Street\, Warrenton\, 
 OR\, 97146\, United States
GEO:46.143868;-123.90518659999998
X-APPLE-STRUCTURED-LOCATION;VALUE=URI;X-ADDRESS=1315 SE 19th Street\, Warre
 nton\, OR\, 97146\, United States;X-APPLE-RADIUS=100;X-TITLE=Clatsop Count
 y Animal Shelter:geo:46.143868,-123.90518659999998
END:VEVENT
BEGIN:VTIMEZONE
TZID:America/Los_Angeles
X-LIC-LOCATION:America/Los_Angeles
BEGIN:DAYLIGHT
DTSTART:20250309T030000
TZOFFSETFROM:-0800
TZOFFSETTO:-0700
TZNAME:PDT
END:DAYLIGHT
END:VTIMEZONE
END:VCALENDAR