BEGIN:VCALENDAR
VERSION:2.0
PRODID:-//wp-events-plugin.com//7.2.3.1//EN
TZID:America/Los_Angeles
X-WR-TIMEZONE:America/Los_Angeles
BEGIN:VEVENT
UID:15034@kmun.org
DTSTART;TZID=America/Los_Angeles;VALUE=DATE:20250326
DTEND;TZID=America/Los_Angeles;VALUE=DATE:20250403
DTSTAMP:20250326T162820Z
URL:https://kmun.org/events/featured-pet-of-the-week-for-the-clatsop-count
 y-animal-shelter-24/
SUMMARY:Featured Pet of the Week for the Clatsop County Animal Shelter
DESCRIPTION:The Featured Pet of the Week for the Clatsop County Animal Shel
 ter is TEDDY a 3.4 year old pitbull mix.  He's a very handsome boy who lo
 ves long walks and car rides.  He's also a very quiet dog and would make 
 a great pal.\nSee Teddy and other animals at petfinder.com.  Also check 
 out the Clatsop Animal Assistance facebook page and the website at dogsnc
 ats.org for great adoption stories.\nThe shelter is open Tuesday through 
 Saturday from 9:30am to 4:00pm (closed 12:30 to 1:30 for lunch).  Call th
 e shelter at 503-86l-7387 to schedule an appointment to meet a dog or cat.
CATEGORIES:Public Events
LOCATION:Clatsop County Animal Shelter\, 1315 SE 19th Street\, Warrenton\, 
 OR\, 97146\, United States
GEO:46.143868;-123.90518659999998
X-APPLE-STRUCTURED-LOCATION;VALUE=URI;X-ADDRESS=1315 SE 19th Street\, Warre
 nton\, OR\, 97146\, United States;X-APPLE-RADIUS=100;X-TITLE=Clatsop Count
 y Animal Shelter:geo:46.143868,-123.90518659999998
END:VEVENT
BEGIN:VTIMEZONE
TZID:America/Los_Angeles
X-LIC-LOCATION:America/Los_Angeles
BEGIN:DAYLIGHT
DTSTART:20250309T030000
TZOFFSETFROM:-0800
TZOFFSETTO:-0700
TZNAME:PDT
END:DAYLIGHT
END:VTIMEZONE
END:VCALENDAR