BEGIN:VCALENDAR
VERSION:2.0
PRODID:-//wp-events-plugin.com//7.2.3.1//EN
TZID:America/Los_Angeles
X-WR-TIMEZONE:America/Los_Angeles
BEGIN:VEVENT
UID:14854@kmun.org
DTSTART;TZID=America/Los_Angeles;VALUE=DATE:20250219
DTEND;TZID=America/Los_Angeles;VALUE=DATE:20250227
DTSTAMP:20250219T171311Z
URL:https://kmun.org/events/featured-pet-of-the-week-for-the-clatsop-count
 y-animal-shelter-19/
SUMMARY:Featured Pet of the Week for the Clatsop County Animal Shelter
DESCRIPTION:The Featured Pet of the Week for the Clatsop County Animal Shel
 ter is SASSY\, an ll year old female long-haired Ragdoll cat.    She has
  stunning grey/white markings.  She's a delight and will brighten up your
  life with her easy-going personality.  Come meet her at the Clatsop Coun
 ty Animal Shelter.\nThe shelter is open Tuesday through Saturday from ll:0
 0am to 4:00pm (closed 12:30-l:30 pm for lunch.  Also check out the Clatso
 p Animal Assistance facebook page and the website at dogsncats.org for gr
 eat adoption stories.
CATEGORIES:Public Events
LOCATION:Clatsop County Animal Shelter\, 1315 SE 19th Street\, Warrenton\, 
 OR\, 97146\, United States
GEO:46.143868;-123.90518659999998
X-APPLE-STRUCTURED-LOCATION;VALUE=URI;X-ADDRESS=1315 SE 19th Street\, Warre
 nton\, OR\, 97146\, United States;X-APPLE-RADIUS=100;X-TITLE=Clatsop Count
 y Animal Shelter:geo:46.143868,-123.90518659999998
END:VEVENT
BEGIN:VTIMEZONE
TZID:America/Los_Angeles
X-LIC-LOCATION:America/Los_Angeles
BEGIN:STANDARD
DTSTART:20241103T010000
TZOFFSETFROM:-0700
TZOFFSETTO:-0800
TZNAME:PST
END:STANDARD
END:VTIMEZONE
END:VCALENDAR