BEGIN:VCALENDAR
VERSION:2.0
PRODID:-//wp-events-plugin.com//7.2.3.1//EN
TZID:America/Los_Angeles
X-WR-TIMEZONE:America/Los_Angeles
BEGIN:VEVENT
UID:14072@kmun.org
DTSTART;TZID=America/Los_Angeles;VALUE=DATE:20241127
DTEND;TZID=America/Los_Angeles;VALUE=DATE:20241205
DTSTAMP:20241127T171546Z
URL:https://kmun.org/events/featured-pet-of-the-week-for-the-clatsop-count
 y-animal-shelter-11/
SUMMARY:Featured Pet of the Week for the Clatsop County Animal Shelter
DESCRIPTION:The Featured Pet of the Week for the Clatsop County Animal Shel
 ter is MOCHI is an older DSH tabby cat\;.  She has beautiful markings. 
  She needs a calm\, quiet home and would love to share that with you.....c
 ome meet her.\nSee Mochi and other animals at petfinder.com.  Also check
  out the Clatsop Animal Assistance facebook page and the website for great
  adoption stories.  The shelter is open Tuesday through Saturday from 9:3
 0 am to 4 pm (closed 12:30-l:30 pm for lunch).  To meet a dog\, call the 
 shelter for an appointment - 503-86l-7387.
CATEGORIES:Public Events
LOCATION:Clatsop County Animal Shelter\, 1315 SE 19th Street\, Warrenton\, 
 OR\, 97146\, United States
GEO:46.143868;-123.90518659999998
X-APPLE-STRUCTURED-LOCATION;VALUE=URI;X-ADDRESS=1315 SE 19th Street\, Warre
 nton\, OR\, 97146\, United States;X-APPLE-RADIUS=100;X-TITLE=Clatsop Count
 y Animal Shelter:geo:46.143868,-123.90518659999998
END:VEVENT
BEGIN:VTIMEZONE
TZID:America/Los_Angeles
X-LIC-LOCATION:America/Los_Angeles
BEGIN:STANDARD
DTSTART:20241103T010000
TZOFFSETFROM:-0700
TZOFFSETTO:-0800
TZNAME:PST
END:STANDARD
END:VTIMEZONE
END:VCALENDAR